BEGIN:VCALENDAR
VERSION:2.0
PRODID:-//Hutchinson Public Library - ECPv6.15.17.1//NONSGML v1.0//EN
CALSCALE:GREGORIAN
METHOD:PUBLISH
X-WR-CALNAME:Hutchinson Public Library
X-ORIGINAL-URL:https://www.hutchpl.org
X-WR-CALDESC:Events for Hutchinson Public Library
REFRESH-INTERVAL;VALUE=DURATION:PT1H
X-Robots-Tag:noindex
X-PUBLISHED-TTL:PT1H
BEGIN:VTIMEZONE
TZID:America/Chicago
BEGIN:DAYLIGHT
TZOFFSETFROM:-0600
TZOFFSETTO:-0500
TZNAME:CDT
DTSTART:20240310T080000
END:DAYLIGHT
BEGIN:STANDARD
TZOFFSETFROM:-0500
TZOFFSETTO:-0600
TZNAME:CST
DTSTART:20241103T070000
END:STANDARD
BEGIN:DAYLIGHT
TZOFFSETFROM:-0600
TZOFFSETTO:-0500
TZNAME:CDT
DTSTART:20250309T080000
END:DAYLIGHT
BEGIN:STANDARD
TZOFFSETFROM:-0500
TZOFFSETTO:-0600
TZNAME:CST
DTSTART:20251102T070000
END:STANDARD
BEGIN:DAYLIGHT
TZOFFSETFROM:-0600
TZOFFSETTO:-0500
TZNAME:CDT
DTSTART:20260308T080000
END:DAYLIGHT
BEGIN:STANDARD
TZOFFSETFROM:-0500
TZOFFSETTO:-0600
TZNAME:CST
DTSTART:20261101T070000
END:STANDARD
END:VTIMEZONE
BEGIN:VTIMEZONE
TZID:UTC
BEGIN:STANDARD
TZOFFSETFROM:+0000
TZOFFSETTO:+0000
TZNAME:UTC
DTSTART:20240101T000000
END:STANDARD
END:VTIMEZONE
BEGIN:VEVENT
DTSTART;TZID=America/Chicago:20250414T103000
DTEND;TZID=America/Chicago:20250414T110000
DTSTAMP:20260423T134227
CREATED:20250311T233123Z
LAST-MODIFIED:20250321T154856Z
UID:10000276-1744626600-1744628400@www.hutchpl.org
SUMMARY:Toddler Time
DESCRIPTION: 
URL:https://www.hutchpl.org/event/toddler-time/2025-04-14/
CATEGORIES:Children's Activities
ATTACH;FMTTYPE=image/jpeg:https://www.hutchpl.org/wp-content/uploads/2025/02/Toddler_Storytime-2-1440x650-2-1080x488-1.jpg
END:VEVENT
BEGIN:VEVENT
DTSTART;TZID=America/Chicago:20250414T110000
DTEND;TZID=America/Chicago:20250414T113000
DTSTAMP:20260423T134227
CREATED:20250311T232949Z
LAST-MODIFIED:20250311T234517Z
UID:10000795-1744628400-1744630200@www.hutchpl.org
SUMMARY:Baby Time
DESCRIPTION: 
URL:https://www.hutchpl.org/event/baby-time/2025-04-14/
CATEGORIES:Children's Activities
ATTACH;FMTTYPE=image/png:https://www.hutchpl.org/wp-content/uploads/2025/02/Baby-time-1200x650-2-1080x488-1.png
END:VEVENT
BEGIN:VEVENT
DTSTART;TZID=America/Chicago:20250415T103000
DTEND;TZID=America/Chicago:20250415T110000
DTSTAMP:20260423T134227
CREATED:20250311T233123Z
LAST-MODIFIED:20250321T154856Z
UID:10000277-1744713000-1744714800@www.hutchpl.org
SUMMARY:Toddler Time
DESCRIPTION: 
URL:https://www.hutchpl.org/event/toddler-time/2025-04-15/
CATEGORIES:Children's Activities
ATTACH;FMTTYPE=image/jpeg:https://www.hutchpl.org/wp-content/uploads/2025/02/Toddler_Storytime-2-1440x650-2-1080x488-1.jpg
END:VEVENT
BEGIN:VEVENT
DTSTART;TZID=America/Chicago:20250416T103000
DTEND;TZID=America/Chicago:20250416T110000
DTSTAMP:20260423T134227
CREATED:20250311T233345Z
LAST-MODIFIED:20250311T233635Z
UID:10000802-1744799400-1744801200@www.hutchpl.org
SUMMARY:Preschool Storytime
DESCRIPTION: 
URL:https://www.hutchpl.org/event/preschool-storytime-2/2025-04-16/
CATEGORIES:Children's Activities
ATTACH;FMTTYPE=image/png:https://www.hutchpl.org/wp-content/uploads/2025/02/preschool-time-3.png
END:VEVENT
BEGIN:VEVENT
DTSTART;TZID=America/Chicago:20250416T171500
DTEND;TZID=America/Chicago:20250416T194500
DTSTAMP:20260423T134227
CREATED:20250305T174426Z
LAST-MODIFIED:20250414T154219Z
UID:10000225-1744823700-1744832700@www.hutchpl.org
SUMMARY:Movie Night - The Mummy PG-13
DESCRIPTION:Librarians on the Big-Screen! \n  \nAt an archaeological dig in the ancient city of Hamunaptra\, an American serving in the French Foreign Legion accidentally awakens a mummy who begins to wreak havoc as he searches for the reincarnation of his long-lost love. \n 
URL:https://www.hutchpl.org/event/movie-night-the-mummy-pg-13/
ATTACH;FMTTYPE=image/jpeg:https://www.hutchpl.org/wp-content/uploads/2025/02/The_mummy.jpg
END:VEVENT
BEGIN:VEVENT
DTSTART;TZID=UTC:20250416T180000
DTEND;TZID=UTC:20250416T190000
DTSTAMP:20260423T134227
CREATED:20250108T224731Z
LAST-MODIFIED:20250108T224731Z
UID:10000047-1744826400-1744830000@www.hutchpl.org
SUMMARY:Salt City Readers
DESCRIPTION:Let’s talk about books! We explore a variety of fiction genres each month! \nSalt City Readers meets every third Wednesday each month. \nCheck out the books at the Public Service Desk or on Cloud Library!  
URL:https://www.hutchpl.org/event/salt-city-readers-4/
LOCATION:Hutchinson Public Library\, 901 N Main St\, Hutchinson\, KS\, 67501\, United States
CATEGORIES:Adults,Book Discussion
ATTACH;FMTTYPE=image/png:https://www.hutchpl.org/wp-content/uploads/2025/01/Salt-City-Readers-Instagram-Post-vmKnTx.tmp_.png
GEO:38.062854;-97.931871
X-APPLE-STRUCTURED-LOCATION;VALUE=URI;X-ADDRESS=Hutchinson Public Library 901 N Main St Hutchinson KS 67501 United States;X-APPLE-RADIUS=500;X-TITLE=901 N Main St:geo:-97.931871,38.062854
END:VEVENT
BEGIN:VEVENT
DTSTART;TZID=America/Chicago:20250417T103000
DTEND;TZID=America/Chicago:20250417T110000
DTSTAMP:20260423T134227
CREATED:20250311T234656Z
LAST-MODIFIED:20250311T234656Z
UID:10000807-1744885800-1744887600@www.hutchpl.org
SUMMARY:Bilingual Storytime
DESCRIPTION: 
URL:https://www.hutchpl.org/event/bilingual-storytime-2/2025-04-17/
CATEGORIES:Children's Activities
ATTACH;FMTTYPE=image/png:https://www.hutchpl.org/wp-content/uploads/2025/02/bilingual-storytime-1.png
END:VEVENT
BEGIN:VEVENT
DTSTART;TZID=UTC:20250417T180000
DTEND;TZID=UTC:20250417T193000
DTSTAMP:20260423T134227
CREATED:20250108T224735Z
LAST-MODIFIED:20250306T223535Z
UID:10000048-1744912800-1744918200@www.hutchpl.org
SUMMARY:Art Talk with HCC
DESCRIPTION:Join us in Meeting Room 1 to learn about art topics presented by HCC students! 
URL:https://www.hutchpl.org/event/art-talk-with-hcc-3/
LOCATION:Hutchinson Public Library\, 901 N Main St\, Hutchinson\, KS\, 67501\, United States
CATEGORIES:Adults
ATTACH;FMTTYPE=image/png:https://www.hutchpl.org/wp-content/uploads/2025/01/Art-Talk-with-HCC-2-QegaFQ.tmp_.png
GEO:38.062854;-97.931871
X-APPLE-STRUCTURED-LOCATION;VALUE=URI;X-ADDRESS=Hutchinson Public Library 901 N Main St Hutchinson KS 67501 United States;X-APPLE-RADIUS=500;X-TITLE=901 N Main St:geo:-97.931871,38.062854
END:VEVENT
BEGIN:VEVENT
DTSTART;TZID=America/Chicago:20250418T103000
DTEND;TZID=America/Chicago:20250418T110000
DTSTAMP:20260423T134227
CREATED:20250311T225145Z
LAST-MODIFIED:20260212T170441Z
UID:10000232-1744972200-1744974000@www.hutchpl.org
SUMMARY:Giggles & Glue
DESCRIPTION:
URL:https://www.hutchpl.org/event/giggles-glue/2025-04-18/
LOCATION:Hutchinson Public Library\, 901 N Main St\, Hutchinson\, KS\, 67501\, United States
CATEGORIES:Children's Activities
ATTACH;FMTTYPE=image/png:https://www.hutchpl.org/wp-content/uploads/2025/02/giggles-and-glue.png
GEO:38.062854;-97.931871
X-APPLE-STRUCTURED-LOCATION;VALUE=URI;X-ADDRESS=Hutchinson Public Library 901 N Main St Hutchinson KS 67501 United States;X-APPLE-RADIUS=500;X-TITLE=901 N Main St:geo:-97.931871,38.062854
END:VEVENT
BEGIN:VEVENT
DTSTART;TZID=America/Chicago:20250418T150000
DTEND;TZID=America/Chicago:20250418T170000
DTSTAMP:20260423T134227
CREATED:20250401T231627Z
LAST-MODIFIED:20250401T231627Z
UID:10000880-1744988400-1744995600@www.hutchpl.org
SUMMARY:Creative Writing Corner
DESCRIPTION:Sharpen your questions and prep your pencils—this session is shaping up to be something truly special. Phil Yarbrough will be pulling back the curtain on how villains and the cultures they command can shape entire worlds\, drive plots\, and breathe life into your stories. Whether you’re knee-deep in a sci-fi saga or just toying with a new idea\, this is your chance to explore the darker side of worldbuilding and walk away with tools to strengthen your writing arsenal. \nThis program will be held in Conference Room 1. Registration not required.
URL:https://www.hutchpl.org/event/creative-writing-corner-6/
ATTACH;FMTTYPE=image/png:https://www.hutchpl.org/wp-content/uploads/2025/04/April-18th.png
END:VEVENT
BEGIN:VEVENT
DTSTART;TZID=America/Chicago:20250418T160000
DTEND;TZID=America/Chicago:20250418T173000
DTSTAMP:20260423T134227
CREATED:20250331T220338Z
LAST-MODIFIED:20250402T151843Z
UID:10000877-1744992000-1744997400@www.hutchpl.org
SUMMARY:3D Printing Certification
DESCRIPTION:We will soon require training to use our 3D printing services. This introductory workshop covers basic information to perform 3D printing projects. Completing it gives you access to use our 3D printing equipment\, and you will make a small 3D print at no cost. \n\n\n\n\n\n\n\n\nYou will need\n\n\n\n\n\n\nA current Hutchinson Public Library Card that belongs to you. You must bring this to the workshop.\nBasic computer and reading skills.\nA second visit to pick up your completed 3D print\n\n\nPlease remember:\n\nThere is no cost to attend.\nThere is not an age limit\, but you should be able to understand and follow written and verbal instructions\, as well as use a desktop computer.\nNo previous experience is required.\nSeats are limited\, but this workshop will be offered regularly. If you can’t attend a scheduled workshop\, please contact us to discuss alternatives.\nThe Makerspace will be closed to other activities during this workshop.\n\n \nAre you new to Makerspace? Haven’t attended orientation? Come to the Makerspace 30 minutes before the 3D Printing workshop for our Makerspace Orientation! You’ll learn what Makerspace is all about\, become familiar with our policies and services\, and meet fellow makers and creatives. This event will become the introduction for everyone using the library makerspace\, and may eventually be required. Get ready early by attending now! \n\nThere is no cost to attend\, but please bring your library card!\nThere is no age limit.\nRegistration is not required.\nThere is not a limit on attendance.\nThe Makerspace will be open during this workshop for non-disruptive projects.\nYou don’t need to attend the 3D Printing workshop to come to the orientation.
URL:https://www.hutchpl.org/event/3d-printing-certification-15/
LOCATION:Hutchinson Public Library – Makerspace\, 901 N Main St\, Hutchinson\, KS\, 67501\, United States
CATEGORIES:Adults,Children's Activities,For Everyone,Young Adult
ATTACH;FMTTYPE=image/jpeg:https://www.hutchpl.org/wp-content/uploads/2025/03/3D-Printing-workshops-April-2025.jpg
END:VEVENT
BEGIN:VEVENT
DTSTART;TZID=America/Chicago:20250419T150000
DTEND;TZID=America/Chicago:20250419T170000
DTSTAMP:20260423T134227
CREATED:20250409T160516Z
LAST-MODIFIED:20250409T160529Z
UID:10000881-1745074800-1745082000@www.hutchpl.org
SUMMARY:Tween Craft Club
DESCRIPTION:Sign up here!
URL:https://www.hutchpl.org/event/tween-craft-club-4/
CATEGORIES:Children's Activities
ATTACH;FMTTYPE=image/png:https://www.hutchpl.org/wp-content/uploads/2025/02/Copy-of-Monthly-programs-1.png
END:VEVENT
END:VCALENDAR