BEGIN:VCALENDAR
VERSION:2.0
PRODID:-//Hutchinson Public Library - ECPv6.15.17.1//NONSGML v1.0//EN
CALSCALE:GREGORIAN
METHOD:PUBLISH
X-WR-CALNAME:Hutchinson Public Library
X-ORIGINAL-URL:https://www.hutchpl.org
X-WR-CALDESC:Events for Hutchinson Public Library
REFRESH-INTERVAL;VALUE=DURATION:PT1H
X-Robots-Tag:noindex
X-PUBLISHED-TTL:PT1H
BEGIN:VTIMEZONE
TZID:UTC
BEGIN:STANDARD
TZOFFSETFROM:+0000
TZOFFSETTO:+0000
TZNAME:UTC
DTSTART:20240101T000000
END:STANDARD
END:VTIMEZONE
BEGIN:VTIMEZONE
TZID:America/Chicago
BEGIN:DAYLIGHT
TZOFFSETFROM:-0600
TZOFFSETTO:-0500
TZNAME:CDT
DTSTART:20240310T080000
END:DAYLIGHT
BEGIN:STANDARD
TZOFFSETFROM:-0500
TZOFFSETTO:-0600
TZNAME:CST
DTSTART:20241103T070000
END:STANDARD
BEGIN:DAYLIGHT
TZOFFSETFROM:-0600
TZOFFSETTO:-0500
TZNAME:CDT
DTSTART:20250309T080000
END:DAYLIGHT
BEGIN:STANDARD
TZOFFSETFROM:-0500
TZOFFSETTO:-0600
TZNAME:CST
DTSTART:20251102T070000
END:STANDARD
BEGIN:DAYLIGHT
TZOFFSETFROM:-0600
TZOFFSETTO:-0500
TZNAME:CDT
DTSTART:20260308T080000
END:DAYLIGHT
BEGIN:STANDARD
TZOFFSETFROM:-0500
TZOFFSETTO:-0600
TZNAME:CST
DTSTART:20261101T070000
END:STANDARD
END:VTIMEZONE
BEGIN:VEVENT
DTSTART;TZID=UTC:20250219T180000
DTEND;TZID=UTC:20250219T190000
DTSTAMP:20260423T134257
CREATED:20250108T224541Z
LAST-MODIFIED:20250218T234045Z
UID:10000029-1739988000-1739991600@www.hutchpl.org
SUMMARY:Salt City Readers - Canceled Due to Weather
DESCRIPTION:Unfortunately\, book club has been canceled and the library will be closed February 19 due to weather conditions.\nWe will meet at our regular time on March 19 and discuss both books. Please stay safe and warm!  \nLet’s talk about books! We explore a variety of fiction genres each month!\nSalt City Readers meets every third Wednesday each month.\nCheck out the books at the Public Service Desk or on Cloud Library!  
URL:https://www.hutchpl.org/event/salt-city-readers-2/
LOCATION:Hutchinson Public Library\, 901 N Main St\, Hutchinson\, KS\, 67501\, United States
CATEGORIES:Adults,Book Discussion
ATTACH;FMTTYPE=image/png:https://www.hutchpl.org/wp-content/uploads/2025/01/Salt-City-Readers-Instagram-Post-vmKnTx.tmp_.png
GEO:38.062854;-97.931871
X-APPLE-STRUCTURED-LOCATION;VALUE=URI;X-ADDRESS=Hutchinson Public Library 901 N Main St Hutchinson KS 67501 United States;X-APPLE-RADIUS=500;X-TITLE=901 N Main St:geo:-97.931871,38.062854
END:VEVENT
BEGIN:VEVENT
DTSTART;TZID=America/Chicago:20250219T180000
DTEND;TZID=America/Chicago:20250219T193000
DTSTAMP:20260423T134257
CREATED:20250201T221416Z
LAST-MODIFIED:20250201T221416Z
UID:10000214-1739988000-1739993400@www.hutchpl.org
SUMMARY:3D Printing Certification
DESCRIPTION:This workshop will cover the necessary information to perform basic 3D printing jobs. Successfully completing it makes allows you to use our 3D printing equipment\, and you will make a small 3D print at no cost.\n\n  \n\n\n\n\n\n\nYou will need\n\n\n\n\n\n\nA current Hutchinson Public Library Card that belongs to you. You must bring this to the workshop.\nBasic computer and reading skills.\nA second visit to pick up your completed 3D print\n\n\nPlease remember:\n\nThere is no cost to attend.\nThere is not an age limit\, but you should be able to understand and follow written and verbal instructions\, as well as use a desktop computer.\nNo previous experience is required.\nSeats are limited\, but this workshop will be offered regularly. If you can’t attend a scheduled workshop\, please contact us to discuss alternatives.\nThe Makerspace will be closed to other activities during this workshop.
URL:https://www.hutchpl.org/event/3d-printing-certification-7/
LOCATION:Hutchinson Public Library – Makerspace\, 901 N Main St\, Hutchinson\, KS\, 67501\, United States
CATEGORIES:Adults,Young Adult
ATTACH;FMTTYPE=image/jpeg:https://www.hutchpl.org/wp-content/uploads/2025/01/3D-Printing-workshop-3-un3z0D.tmp_.jpg
END:VEVENT
BEGIN:VEVENT
DTSTART;TZID=America/Chicago:20250221T150000
DTEND;TZID=America/Chicago:20250221T170000
DTSTAMP:20260423T134257
CREATED:20250128T210853Z
LAST-MODIFIED:20250128T210853Z
UID:10000210-1740150000-1740157200@www.hutchpl.org
SUMMARY:Creative Writing Corner
DESCRIPTION:The Creative Writing Corner is a space for anyone to sit down and work on their own stories. Whether you want to brainstorm ideas with other patrons\, need help editing your work\, or just want to sit in the corner and write away; this is the corner for you! Join us in Meeting Room #2.
URL:https://www.hutchpl.org/event/creative-writing-corner-4/
CATEGORIES:Adults,Young Adult
ATTACH;FMTTYPE=image/png:https://www.hutchpl.org/wp-content/uploads/2025/01/CWC-Logo-1-VV5gNw.tmp_.png
END:VEVENT
BEGIN:VEVENT
DTSTART;TZID=America/Chicago:20250222T140000
DTEND;TZID=America/Chicago:20250222T160000
DTSTAMP:20260423T134257
CREATED:20250204T165600Z
LAST-MODIFIED:20250204T165600Z
UID:10000217-1740232800-1740240000@www.hutchpl.org
SUMMARY:Teen Murder Mystery Party
DESCRIPTION:There has been a murder at the International CSI Conference\, and everyone is a suspect. Get into character and gather clues from other players to crack the case before they strike again!  \nThis event is open to 7th-12th graders\, and registration is required by by February 15th or until spots fill. \nRegister Here
URL:https://www.hutchpl.org/event/teen-murder-mystery-party/
CATEGORIES:Young Adult
ATTACH;FMTTYPE=image/jpeg:https://www.hutchpl.org/wp-content/uploads/2025/02/MMP.jpg
END:VEVENT
BEGIN:VEVENT
DTSTART;TZID=America/Chicago:20250222T140000
DTEND;TZID=America/Chicago:20250222T180000
DTSTAMP:20260423T134257
CREATED:20250204T223235Z
LAST-MODIFIED:20250204T223235Z
UID:10000218-1740232800-1740247200@www.hutchpl.org
SUMMARY:Tech-Share Learning Event
DESCRIPTION:Visit our learning event in Meeting Room #2 if you’d like to improve your technology skills! Our partner\, Tech-Share\, will be available to help you with your device\, provide information and general help\, and guide you on your path to technology proficiency. \nBring your own equipment or get help on devices Tech-Share will have available for hands-on learning. 
URL:https://www.hutchpl.org/event/tech-share-learning-event/
LOCATION:Hutchinson Public Library\, 901 N Main St\, Hutchinson\, KS\, 67501\, United States
CATEGORIES:Adults,Young Adult
ATTACH;FMTTYPE=image/png:https://www.hutchpl.org/wp-content/uploads/2024/08/Copy-of-White-And-Blue-Modern-Computer-Course-Facebook-Post.png
GEO:38.062854;-97.931871
X-APPLE-STRUCTURED-LOCATION;VALUE=URI;X-ADDRESS=Hutchinson Public Library 901 N Main St Hutchinson KS 67501 United States;X-APPLE-RADIUS=500;X-TITLE=901 N Main St:geo:-97.931871,38.062854
END:VEVENT
END:VCALENDAR