BEGIN:VCALENDAR
VERSION:2.0
PRODID:-//Hutchinson Public Library - ECPv6.15.17.1//NONSGML v1.0//EN
CALSCALE:GREGORIAN
METHOD:PUBLISH
X-ORIGINAL-URL:https://www.hutchpl.org
X-WR-CALDESC:Events for Hutchinson Public Library
REFRESH-INTERVAL;VALUE=DURATION:PT1H
X-Robots-Tag:noindex
X-PUBLISHED-TTL:PT1H
BEGIN:VTIMEZONE
TZID:UTC
BEGIN:STANDARD
TZOFFSETFROM:+0000
TZOFFSETTO:+0000
TZNAME:UTC
DTSTART:20240101T000000
END:STANDARD
END:VTIMEZONE
BEGIN:VTIMEZONE
TZID:America/Chicago
BEGIN:DAYLIGHT
TZOFFSETFROM:-0600
TZOFFSETTO:-0500
TZNAME:CDT
DTSTART:20240310T080000
END:DAYLIGHT
BEGIN:STANDARD
TZOFFSETFROM:-0500
TZOFFSETTO:-0600
TZNAME:CST
DTSTART:20241103T070000
END:STANDARD
BEGIN:DAYLIGHT
TZOFFSETFROM:-0600
TZOFFSETTO:-0500
TZNAME:CDT
DTSTART:20250309T080000
END:DAYLIGHT
BEGIN:STANDARD
TZOFFSETFROM:-0500
TZOFFSETTO:-0600
TZNAME:CST
DTSTART:20251102T070000
END:STANDARD
BEGIN:DAYLIGHT
TZOFFSETFROM:-0600
TZOFFSETTO:-0500
TZNAME:CDT
DTSTART:20260308T080000
END:DAYLIGHT
BEGIN:STANDARD
TZOFFSETFROM:-0500
TZOFFSETTO:-0600
TZNAME:CST
DTSTART:20261101T070000
END:STANDARD
END:VTIMEZONE
BEGIN:VEVENT
DTSTART;TZID=UTC:20250212T180000
DTEND;TZID=UTC:20250212T190000
DTSTAMP:20260425T095026
CREATED:20250108T224520Z
LAST-MODIFIED:20250110T231249Z
UID:10000025-1739383200-1739386800@www.hutchpl.org
SUMMARY:Is the Book Always Better? Pride and Prejudice Book Club Discussion
DESCRIPTION:Are ready to tell us what you think of the 2005 movie adaptation of the Pride and Prejudice and the original book? We hope so! Join us for a lively discussion and maybe even a light-hearted debate about whether the book or the movie is better! 
URL:https://www.hutchpl.org/event/is-the-book-always-better-pride-and-prejudice-book-club-discussion/
LOCATION:Hutchinson Public Library\, 901 N Main St\, Hutchinson\, KS\, 67501\, United States
CATEGORIES:Adults,Book Discussion
ATTACH;FMTTYPE=image/png:https://www.hutchpl.org/wp-content/uploads/2025/01/IBAB-Loxi1-1-rFO0Mj.tmp_.png
GEO:38.062854;-97.931871
X-APPLE-STRUCTURED-LOCATION;VALUE=URI;X-ADDRESS=Hutchinson Public Library 901 N Main St Hutchinson KS 67501 United States;X-APPLE-RADIUS=500;X-TITLE=901 N Main St:geo:-97.931871,38.062854
END:VEVENT
BEGIN:VEVENT
DTSTART;TZID=America/Chicago:20250213T160000
DTEND;TZID=America/Chicago:20250213T173000
DTSTAMP:20260425T095026
CREATED:20250131T235115Z
LAST-MODIFIED:20250131T235115Z
UID:10000213-1739462400-1739467800@www.hutchpl.org
SUMMARY:3D Printing Certification
DESCRIPTION:This workshop will cover the necessary information to perform basic 3D printing jobs. Successfully completing it makes allows you to use our 3D printing equipment\, and you will make a small 3D print at no cost.\n\n  \n\n\n\n\n\n\nYou will need\n\n\n\n\n\n\nA current Hutchinson Public Library Card that belongs to you. You must bring this to the workshop.\nBasic computer and reading skills.\nA second visit to pick up your completed 3D print\n\n\nPlease remember:\n\nThere is no cost to attend.\nThere is not an age limit\, but you should be able to understand and follow written and verbal instructions\, as well as use a desktop computer.\nNo previous experience is required.\nSeats are limited\, but this workshop will be offered regularly. If you can’t attend a scheduled workshop\, please contact us to discuss alternatives.\nThe Makerspace will be closed to other activities during this workshop.
URL:https://www.hutchpl.org/event/3d-printing-certification-6/
LOCATION:Hutchinson Public Library – Makerspace\, 901 N Main St\, Hutchinson\, KS\, 67501\, United States
CATEGORIES:Adults,Children's Activities,Young Adult
ATTACH;FMTTYPE=image/jpeg:https://www.hutchpl.org/wp-content/uploads/2025/01/3D-Printing-workshop-2-JPGHeu.tmp_.jpg
END:VEVENT
BEGIN:VEVENT
DTSTART;TZID=UTC:20250213T180000
DTEND;TZID=UTC:20250213T190000
DTSTAMP:20260425T095026
CREATED:20250108T224530Z
LAST-MODIFIED:20250108T224530Z
UID:10000027-1739469600-1739473200@www.hutchpl.org
SUMMARY:Read to Rover
DESCRIPTION:Studies show that children gain confidence when reading to dogs. Whether  your child is a pre-reader\, just learning to read\, or is a proficient reader\, they will enjoy this fun program. When readers get three punches on their punch card\, they get a free book! This program is in partnership with Hutchinson Kennel Club Therapy Dogs. \nNo registration required.
URL:https://www.hutchpl.org/event/read-to-rover-2/
LOCATION:Hutchinson Public Library\, 901 N Main St\, Hutchinson\, KS\, 67501\, United States
CATEGORIES:Children's Activities
ATTACH;FMTTYPE=image/png:https://www.hutchpl.org/wp-content/uploads/2025/01/Read-to-Rover-1536x864-1-fcUJQX.tmp_.png
GEO:38.062854;-97.931871
X-APPLE-STRUCTURED-LOCATION;VALUE=URI;X-ADDRESS=Hutchinson Public Library 901 N Main St Hutchinson KS 67501 United States;X-APPLE-RADIUS=500;X-TITLE=901 N Main St:geo:-97.931871,38.062854
END:VEVENT
BEGIN:VEVENT
DTSTART;TZID=UTC:20250213T180000
DTEND;TZID=UTC:20250213T193000
DTSTAMP:20260425T095026
CREATED:20250108T224535Z
LAST-MODIFIED:20250108T224535Z
UID:10000028-1739469600-1739475000@www.hutchpl.org
SUMMARY:Art Talk with HCC
DESCRIPTION:Join us in Meeting Room 1 to learn about art topics presented by HCC students!
URL:https://www.hutchpl.org/event/art-talk-with-hcc/
LOCATION:Hutchinson Public Library\, 901 N Main St\, Hutchinson\, KS\, 67501\, United States
ATTACH;FMTTYPE=image/png:https://www.hutchpl.org/wp-content/uploads/2025/01/Art-Talk-with-HCC-9FT5dp.tmp_.png
GEO:38.062854;-97.931871
X-APPLE-STRUCTURED-LOCATION;VALUE=URI;X-ADDRESS=Hutchinson Public Library 901 N Main St Hutchinson KS 67501 United States;X-APPLE-RADIUS=500;X-TITLE=901 N Main St:geo:-97.931871,38.062854
END:VEVENT
BEGIN:VEVENT
DTSTART;TZID=America/Chicago:20250215T150000
DTEND;TZID=America/Chicago:20250215T170000
DTSTAMP:20260425T095026
CREATED:20250204T160923Z
LAST-MODIFIED:20250204T160923Z
UID:10000216-1739631600-1739638800@www.hutchpl.org
SUMMARY:Tween Craft Club
DESCRIPTION:Ready to start your craft journey & express all your creative ideas?? Join us for our tween craft club! \nThird Saturdays 3:00-5:00pm\nGrades 3rd-6th\nYouth Services Activity Room \n*Registration required\, sign up here!
URL:https://www.hutchpl.org/event/tween-craft-club-2/
ATTACH;FMTTYPE=image/png:https://www.hutchpl.org/wp-content/uploads/2025/02/Copy-of-Monthly-programs-1.png
END:VEVENT
END:VCALENDAR