BEGIN:VCALENDAR
VERSION:2.0
PRODID:-//Hutchinson Public Library - ECPv6.15.17.1//NONSGML v1.0//EN
CALSCALE:GREGORIAN
METHOD:PUBLISH
X-ORIGINAL-URL:https://www.hutchpl.org
X-WR-CALDESC:Events for Hutchinson Public Library
REFRESH-INTERVAL;VALUE=DURATION:PT1H
X-Robots-Tag:noindex
X-PUBLISHED-TTL:PT1H
BEGIN:VTIMEZONE
TZID:UTC
BEGIN:STANDARD
TZOFFSETFROM:+0000
TZOFFSETTO:+0000
TZNAME:UTC
DTSTART:20240101T000000
END:STANDARD
END:VTIMEZONE
BEGIN:VEVENT
DTSTART;TZID=UTC:20250128T180000
DTEND;TZID=UTC:20250128T190000
DTSTAMP:20260423T132609
CREATED:20250108T224355Z
LAST-MODIFIED:20250108T224355Z
UID:10000013-1738087200-1738090800@www.hutchpl.org
SUMMARY:Mystery Mavens
DESCRIPTION:6:00 pm\nConference Room #2\nMystery Mavens meet on the fourth Tuesday of every month. If you are interested in obtaining a copy of this month’s book and participating in\n a discussion\, please contact Steve Westfahl (steve.w@hutchpl.org) or\ncall 620-663-5441. 
URL:https://www.hutchpl.org/event/mystery-mavens/
LOCATION:Hutchinson Public Library\, 901 N Main St\, Hutchinson\, KS\, 67501\, United States
CATEGORIES:Adults,Book Discussion
ATTACH;FMTTYPE=image/png:https://www.hutchpl.org/wp-content/uploads/2025/01/Mystery1-rsjwLQ.tmp_.png
GEO:38.062854;-97.931871
X-APPLE-STRUCTURED-LOCATION;VALUE=URI;X-ADDRESS=Hutchinson Public Library 901 N Main St Hutchinson KS 67501 United States;X-APPLE-RADIUS=500;X-TITLE=901 N Main St:geo:-97.931871,38.062854
END:VEVENT
BEGIN:VEVENT
DTSTART;VALUE=DATE:20250129
DTEND;VALUE=DATE:20250130
DTSTAMP:20260423T132609
CREATED:20250108T224444Z
LAST-MODIFIED:20250108T224444Z
UID:10000018-1738108800-1738195199@www.hutchpl.org
SUMMARY:Kansas Day Celebration
DESCRIPTION:
URL:https://www.hutchpl.org/event/kansas-day-celebration/
LOCATION:Hutchinson Public Library\, 901 N Main St\, Hutchinson\, KS\, 67501\, United States
ATTACH;FMTTYPE=image/png:https://www.hutchpl.org/wp-content/uploads/2025/01/Kansas-Day-m5kttN.tmp_.png
GEO:38.062854;-97.931871
X-APPLE-STRUCTURED-LOCATION;VALUE=URI;X-ADDRESS=Hutchinson Public Library 901 N Main St Hutchinson KS 67501 United States;X-APPLE-RADIUS=500;X-TITLE=901 N Main St:geo:-97.931871,38.062854
END:VEVENT
BEGIN:VEVENT
DTSTART;TZID=UTC:20250129T103000
DTEND;TZID=UTC:20250129T123000
DTSTAMP:20260423T132609
CREATED:20250108T224413Z
LAST-MODIFIED:20250108T224413Z
UID:10000014-1738146600-1738153800@www.hutchpl.org
SUMMARY:Author Talk with Jill Forsberg
DESCRIPTION:Meeting Room 1\nKansas Day Celebration\nKansas author Jillian holds a master’s degree in public history from Wichita State University and a bachelor’s degree in communication and\nhistory from McPherson College. Her research on little-known historical\nevents led her to discover the true story behind her first novel\, The Rhino Keeper.  \nBased on the true story of a Dutch sea\ncaptain who traveled with an Indian rhinoceros called Clara across 18th\ncentury Europe\, THE RHINO KEEPER evokes both the thrill of discovery in\nthe archives and the wonder felt by a world in which no European had\nseen a living rhinoceros.  \nMeet Jillian and explore unique and inspirational secrets our history can hold while we celebrate Kansas and the wonderful people from our great State! 
URL:https://www.hutchpl.org/event/author-talk-with-jill-forsberg/
LOCATION:Hutchinson Public Library\, 901 N Main St\, Hutchinson\, KS\, 67501\, United States
ATTACH;FMTTYPE=image/png:https://www.hutchpl.org/wp-content/uploads/2025/01/1-K3XiEF.tmp_.png
GEO:38.062854;-97.931871
X-APPLE-STRUCTURED-LOCATION;VALUE=URI;X-ADDRESS=Hutchinson Public Library 901 N Main St Hutchinson KS 67501 United States;X-APPLE-RADIUS=500;X-TITLE=901 N Main St:geo:-97.931871,38.062854
END:VEVENT
BEGIN:VEVENT
DTSTART;TZID=UTC:20250129T143000
DTEND;TZID=UTC:20250129T173000
DTSTAMP:20260423T132609
CREATED:20250108T224422Z
LAST-MODIFIED:20250108T224422Z
UID:10000015-1738161000-1738171800@www.hutchpl.org
SUMMARY:Meet President Eisenhower – Celebrate Kansas with Bill Nicks
DESCRIPTION:To celebrate Kansas Day\, come see and hear IKE Eisenhower on January 29 at\n the Hutchinson Public Library.  The 34th President from the 34th State  will be portrayed by Bill Nicks\, a local historian from Lenexa.  From the Eisenhower re-enactment you will learn about his association with The Interstate Hi-Way System\, NATO\, the early days of Vietnam\, his brothers\, Mamie and the young son he lost\,\nGeorge Patton\, the difficulty in winning the Republican Presidential nomination\, Douglas MacArthur\, Churchill\, His Cross of Iron Speech\, D-Day\, U2 flights\, school desegregation\, the arms race  and much much more.  Please join us for an “edu-taining” time. \nBill Nicks is a Kansas City area historian who conducts historic bus tours and portrays 5 historical characters: IKE\, James Naismith\, Octave Chanute\, Wilbur  Wright and Tom Pendergast.  He and his wife Marci are life-long Kansans\, he from Shawnee and she\nfrom Bucklin.  They live in Lenexa and have 3 children and 8 grandchildren.  After serving 3 years in the US Army Nicks received a BA from Washburn and a Masters from KU.  He was elected to the Lenexa City Council in 2017 and re-elected in 2021. 
URL:https://www.hutchpl.org/event/meet-president-eisenhower-celebrate-kansas-with-bill-nicks/
LOCATION:Hutchinson Public Library\, 901 N Main St\, Hutchinson\, KS\, 67501\, United States
ATTACH;FMTTYPE=image/png:https://www.hutchpl.org/wp-content/uploads/2025/01/2-DAC8ei.tmp_.png
GEO:38.062854;-97.931871
X-APPLE-STRUCTURED-LOCATION;VALUE=URI;X-ADDRESS=Hutchinson Public Library 901 N Main St Hutchinson KS 67501 United States;X-APPLE-RADIUS=500;X-TITLE=901 N Main St:geo:-97.931871,38.062854
END:VEVENT
BEGIN:VEVENT
DTSTART;TZID=UTC:20250129T170000
DTEND;TZID=UTC:20250129T193000
DTSTAMP:20260423T132609
CREATED:20250108T224438Z
LAST-MODIFIED:20250108T224438Z
UID:10000017-1738170000-1738179000@www.hutchpl.org
SUMMARY:Kansas Movie Night
DESCRIPTION:Go to meeting room 1 for a fun Kansas Movie and popcorn!
URL:https://www.hutchpl.org/event/kansas-movie-night/
LOCATION:Hutchinson Public Library\, 901 N Main St\, Hutchinson\, KS\, 67501\, United States
ATTACH;FMTTYPE=image/png:https://www.hutchpl.org/wp-content/uploads/2025/01/Kansas-Day-3-VqVxnk.tmp_.png
GEO:38.062854;-97.931871
X-APPLE-STRUCTURED-LOCATION;VALUE=URI;X-ADDRESS=Hutchinson Public Library 901 N Main St Hutchinson KS 67501 United States;X-APPLE-RADIUS=500;X-TITLE=901 N Main St:geo:-97.931871,38.062854
END:VEVENT
BEGIN:VEVENT
DTSTART;TZID=UTC:20250129T180000
DTEND;TZID=UTC:20250129T193000
DTSTAMP:20260423T132609
CREATED:20250108T224431Z
LAST-MODIFIED:20250113T200438Z
UID:10000016-1738173600-1738179000@www.hutchpl.org
SUMMARY:3D Printing Certification
DESCRIPTION: 
URL:https://www.hutchpl.org/event/3d-printing-certification-4/
LOCATION:Hutchinson Public Library\, 901 N Main St\, Hutchinson\, KS\, 67501\, United States
CATEGORIES:Adults,For Everyone,Young Adult
ATTACH;FMTTYPE=image/jpeg:https://www.hutchpl.org/wp-content/uploads/2025/01/3D-Printing-workshop-3-un3z0D.tmp_.jpg
GEO:38.062854;-97.931871
X-APPLE-STRUCTURED-LOCATION;VALUE=URI;X-ADDRESS=Hutchinson Public Library 901 N Main St Hutchinson KS 67501 United States;X-APPLE-RADIUS=500;X-TITLE=901 N Main St:geo:-97.931871,38.062854
END:VEVENT
BEGIN:VEVENT
DTSTART;TZID=UTC:20250201T103000
DTEND;TZID=UTC:20250201T120000
DTSTAMP:20260423T132609
CREATED:20250108T224451Z
LAST-MODIFIED:20250108T224451Z
UID:10000019-1738405800-1738411200@www.hutchpl.org
SUMMARY:LEGOS® at the Library
DESCRIPTION:Learn about creative ways to build and explore your own ingenuity and imagination\, and socialize with other LEGO fans! Check out our collection of LEGO books as well.\nThis is a free program\, does not require registration\, and is suitable for children & families ages 3 – 12 (younger children should be carefully monitored because of choking hazards). Building prompts and challenges may be provided by library staff\, but are not mandatory.  
URL:https://www.hutchpl.org/event/legos-at-the-library/
LOCATION:Hutchinson Public Library\, 901 N Main St\, Hutchinson\, KS\, 67501\, United States
CATEGORIES:Children's Activities
ATTACH;FMTTYPE=image/jpeg:https://www.hutchpl.org/wp-content/uploads/2025/01/Legos-at-the-Library-dkMBW0.tmp_.jpg
GEO:38.062854;-97.931871
X-APPLE-STRUCTURED-LOCATION;VALUE=URI;X-ADDRESS=Hutchinson Public Library 901 N Main St Hutchinson KS 67501 United States;X-APPLE-RADIUS=500;X-TITLE=901 N Main St:geo:-97.931871,38.062854
END:VEVENT
END:VCALENDAR