BEGIN:VCALENDAR
VERSION:2.0
PRODID:-//Hutchinson Public Library - ECPv6.15.17.1//NONSGML v1.0//EN
CALSCALE:GREGORIAN
METHOD:PUBLISH
X-ORIGINAL-URL:https://www.hutchpl.org
X-WR-CALDESC:Events for Hutchinson Public Library
REFRESH-INTERVAL;VALUE=DURATION:PT1H
X-Robots-Tag:noindex
X-PUBLISHED-TTL:PT1H
BEGIN:VTIMEZONE
TZID:UTC
BEGIN:STANDARD
TZOFFSETFROM:+0000
TZOFFSETTO:+0000
TZNAME:UTC
DTSTART:20240101T000000
END:STANDARD
END:VTIMEZONE
BEGIN:VTIMEZONE
TZID:America/Chicago
BEGIN:DAYLIGHT
TZOFFSETFROM:-0600
TZOFFSETTO:-0500
TZNAME:CDT
DTSTART:20240310T080000
END:DAYLIGHT
BEGIN:STANDARD
TZOFFSETFROM:-0500
TZOFFSETTO:-0600
TZNAME:CST
DTSTART:20241103T070000
END:STANDARD
BEGIN:DAYLIGHT
TZOFFSETFROM:-0600
TZOFFSETTO:-0500
TZNAME:CDT
DTSTART:20250309T080000
END:DAYLIGHT
BEGIN:STANDARD
TZOFFSETFROM:-0500
TZOFFSETTO:-0600
TZNAME:CST
DTSTART:20251102T070000
END:STANDARD
BEGIN:DAYLIGHT
TZOFFSETFROM:-0600
TZOFFSETTO:-0500
TZNAME:CDT
DTSTART:20260308T080000
END:DAYLIGHT
BEGIN:STANDARD
TZOFFSETFROM:-0500
TZOFFSETTO:-0600
TZNAME:CST
DTSTART:20261101T070000
END:STANDARD
END:VTIMEZONE
BEGIN:VEVENT
DTSTART;TZID=UTC:20250115T180000
DTEND;TZID=UTC:20250115T190000
DTSTAMP:20260423T231838
CREATED:20250108T224307Z
LAST-MODIFIED:20250108T224307Z
UID:10000007-1736964000-1736967600@www.hutchpl.org
SUMMARY:Salt City Readers
DESCRIPTION:Let’s talk about books! We explore a variety of fiction genres each month! \nSalt City Readers meets every third Wednesday each month. \nCheck out the books at the Public Service Desk or on Cloud Library!  
URL:https://www.hutchpl.org/event/salt-city-readers/
LOCATION:Hutchinson Public Library\, 901 N Main St\, Hutchinson\, KS\, 67501\, United States
CATEGORIES:Adults,Book Discussion
ATTACH;FMTTYPE=image/png:https://www.hutchpl.org/wp-content/uploads/2025/01/Salt-City-Readers-Instagram-Post-vmKnTx.tmp_.png
GEO:38.062854;-97.931871
X-APPLE-STRUCTURED-LOCATION;VALUE=URI;X-ADDRESS=Hutchinson Public Library 901 N Main St Hutchinson KS 67501 United States;X-APPLE-RADIUS=500;X-TITLE=901 N Main St:geo:-97.931871,38.062854
END:VEVENT
BEGIN:VEVENT
DTSTART;TZID=UTC:20250117T160000
DTEND;TZID=UTC:20250117T173000
DTSTAMP:20260423T231838
CREATED:20250108T224318Z
LAST-MODIFIED:20250113T200626Z
UID:10000008-1737129600-1737135000@www.hutchpl.org
SUMMARY:3D Printing Certification
DESCRIPTION: 
URL:https://www.hutchpl.org/event/3d-printing-certification-2/
LOCATION:Hutchinson Public Library\, 901 N Main St\, Hutchinson\, KS\, 67501\, United States
CATEGORIES:Adults,Family,Young Adult
ATTACH;FMTTYPE=image/jpeg:https://www.hutchpl.org/wp-content/uploads/2025/01/3D-Printing-workshop-1-HbhaDz.tmp_.jpg
GEO:38.062854;-97.931871
X-APPLE-STRUCTURED-LOCATION;VALUE=URI;X-ADDRESS=Hutchinson Public Library 901 N Main St Hutchinson KS 67501 United States;X-APPLE-RADIUS=500;X-TITLE=901 N Main St:geo:-97.931871,38.062854
END:VEVENT
BEGIN:VEVENT
DTSTART;TZID=America/Chicago:20250118T150000
DTEND;TZID=America/Chicago:20250118T170000
DTSTAMP:20260423T231838
CREATED:20250113T194248Z
LAST-MODIFIED:20250113T194612Z
UID:10000206-1737212400-1737219600@www.hutchpl.org
SUMMARY:Tween Craft Club
DESCRIPTION:Ready to start your craft journey & express all your creative ideas?? Join us for our tween craft club! \nThird Saturdays 3:00-5:00pm\nGrades 4th-6th\nYouth Services Activity Room \n*Registration required\, sign up here!
URL:https://www.hutchpl.org/event/tween-craft-club/
ATTACH;FMTTYPE=image/png:https://www.hutchpl.org/wp-content/uploads/2025/01/Copy-of-Monthly-programs.png
END:VEVENT
END:VCALENDAR