BEGIN:VCALENDAR
VERSION:2.0
PRODID:-//Hutchinson Public Library - ECPv6.15.17.1//NONSGML v1.0//EN
CALSCALE:GREGORIAN
METHOD:PUBLISH
X-ORIGINAL-URL:https://www.hutchpl.org
X-WR-CALDESC:Events for Hutchinson Public Library
REFRESH-INTERVAL;VALUE=DURATION:PT1H
X-Robots-Tag:noindex
X-PUBLISHED-TTL:PT1H
BEGIN:VTIMEZONE
TZID:America/Chicago
BEGIN:DAYLIGHT
TZOFFSETFROM:-0600
TZOFFSETTO:-0500
TZNAME:CDT
DTSTART:20250309T080000
END:DAYLIGHT
BEGIN:STANDARD
TZOFFSETFROM:-0500
TZOFFSETTO:-0600
TZNAME:CST
DTSTART:20251102T070000
END:STANDARD
BEGIN:DAYLIGHT
TZOFFSETFROM:-0600
TZOFFSETTO:-0500
TZNAME:CDT
DTSTART:20260308T080000
END:DAYLIGHT
BEGIN:STANDARD
TZOFFSETFROM:-0500
TZOFFSETTO:-0600
TZNAME:CST
DTSTART:20261101T070000
END:STANDARD
BEGIN:DAYLIGHT
TZOFFSETFROM:-0600
TZOFFSETTO:-0500
TZNAME:CDT
DTSTART:20270314T080000
END:DAYLIGHT
BEGIN:STANDARD
TZOFFSETFROM:-0500
TZOFFSETTO:-0600
TZNAME:CST
DTSTART:20271107T070000
END:STANDARD
END:VTIMEZONE
BEGIN:VEVENT
DTSTART;TZID=America/Chicago:20260112T103000
DTEND;TZID=America/Chicago:20260112T110000
DTSTAMP:20260421T130158
CREATED:20260102T221152Z
LAST-MODIFIED:20260102T221152Z
UID:10001753-1768213800-1768215600@www.hutchpl.org
SUMMARY:Toddler Time
DESCRIPTION:Recommended age: 18 months – 2 years\nA storytime at HPL (for babies\, toddlers\, or preschoolers) includes books\, songs\, rhymes\, music\, and more– chosen for the appropriate age!\nYou and your child will create a strong bond\, build lasting memories\, and learn through play with their peers!
URL:https://www.hutchpl.org/event/toddler-time-4/2026-01-12/
CATEGORIES:Children's Activities
ATTACH;FMTTYPE=image/jpeg:https://www.hutchpl.org/wp-content/uploads/2025/02/Toddler_Storytime-2-1440x650-2-1080x488-1.jpg
END:VEVENT
BEGIN:VEVENT
DTSTART;TZID=America/Chicago:20260112T110000
DTEND;TZID=America/Chicago:20260112T113000
DTSTAMP:20260421T130158
CREATED:20260102T221622Z
LAST-MODIFIED:20260102T221622Z
UID:10001836-1768215600-1768217400@www.hutchpl.org
SUMMARY:Baby Time
DESCRIPTION:Recommended age: Birth – 18 months\nA storytime at HPL (for babies\, toddlers\, or preschoolers) includes books\, songs\, rhymes\, music\, and more– chosen for the appropriate age!\nYou and your child will create a strong bond\, build lasting memories\, and learn through play with their peers!
URL:https://www.hutchpl.org/event/baby-time-4/2026-01-12/
LOCATION:Hutchinson Public Library\, 901 N Main St\, Hutchinson\, KS\, 67501\, United States
CATEGORIES:Children's Activities
ATTACH;FMTTYPE=image/png:https://www.hutchpl.org/wp-content/uploads/2025/02/Baby-time-1200x650-2-1080x488-1.png
GEO:38.062854;-97.931871
X-APPLE-STRUCTURED-LOCATION;VALUE=URI;X-ADDRESS=Hutchinson Public Library 901 N Main St Hutchinson KS 67501 United States;X-APPLE-RADIUS=500;X-TITLE=901 N Main St:geo:-97.931871,38.062854
END:VEVENT
BEGIN:VEVENT
DTSTART;TZID=America/Chicago:20260113T103000
DTEND;TZID=America/Chicago:20260113T110000
DTSTAMP:20260421T130158
CREATED:20260102T221152Z
LAST-MODIFIED:20260102T221152Z
UID:10001754-1768300200-1768302000@www.hutchpl.org
SUMMARY:Toddler Time
DESCRIPTION:Recommended age: 18 months – 2 years\nA storytime at HPL (for babies\, toddlers\, or preschoolers) includes books\, songs\, rhymes\, music\, and more– chosen for the appropriate age!\nYou and your child will create a strong bond\, build lasting memories\, and learn through play with their peers!
URL:https://www.hutchpl.org/event/toddler-time-4/2026-01-13/
CATEGORIES:Children's Activities
ATTACH;FMTTYPE=image/jpeg:https://www.hutchpl.org/wp-content/uploads/2025/02/Toddler_Storytime-2-1440x650-2-1080x488-1.jpg
END:VEVENT
BEGIN:VEVENT
DTSTART;TZID=America/Chicago:20260113T110000
DTEND;TZID=America/Chicago:20260113T113000
DTSTAMP:20260421T130158
CREATED:20260102T221622Z
LAST-MODIFIED:20260102T221622Z
UID:10001837-1768302000-1768303800@www.hutchpl.org
SUMMARY:Baby Time
DESCRIPTION:Recommended age: Birth – 18 months\nA storytime at HPL (for babies\, toddlers\, or preschoolers) includes books\, songs\, rhymes\, music\, and more– chosen for the appropriate age!\nYou and your child will create a strong bond\, build lasting memories\, and learn through play with their peers!
URL:https://www.hutchpl.org/event/baby-time-4/2026-01-13/
LOCATION:Hutchinson Public Library\, 901 N Main St\, Hutchinson\, KS\, 67501\, United States
CATEGORIES:Children's Activities
ATTACH;FMTTYPE=image/png:https://www.hutchpl.org/wp-content/uploads/2025/02/Baby-time-1200x650-2-1080x488-1.png
GEO:38.062854;-97.931871
X-APPLE-STRUCTURED-LOCATION;VALUE=URI;X-ADDRESS=Hutchinson Public Library 901 N Main St Hutchinson KS 67501 United States;X-APPLE-RADIUS=500;X-TITLE=901 N Main St:geo:-97.931871,38.062854
END:VEVENT
BEGIN:VEVENT
DTSTART;TZID=America/Chicago:20260114T103000
DTEND;TZID=America/Chicago:20260114T110000
DTSTAMP:20260421T130158
CREATED:20260102T221755Z
LAST-MODIFIED:20260102T221755Z
UID:10001871-1768386600-1768388400@www.hutchpl.org
SUMMARY:Preschool Storytime
DESCRIPTION:Recommended age: 3-5 with a caregiver\nA storytime at HPL (for babies\, toddlers\, or preschoolers) includes books\, songs\, rhymes\, music\, and more– chosen for the appropriate age!\nYou and your child will create a strong bond\, build lasting memories\, and learn through play with their peers!
URL:https://www.hutchpl.org/event/preschool-storytime-4/2026-01-14/
CATEGORIES:Children's Activities
ATTACH;FMTTYPE=image/png:https://www.hutchpl.org/wp-content/uploads/2025/02/preschool-time-3.png
END:VEVENT
BEGIN:VEVENT
DTSTART;TZID=America/Chicago:20260115T103000
DTEND;TZID=America/Chicago:20260115T110000
DTSTAMP:20260421T130158
CREATED:20260102T222018Z
LAST-MODIFIED:20260102T222018Z
UID:10001895-1768473000-1768474800@www.hutchpl.org
SUMMARY:Little Language Learners
DESCRIPTION:Enjoy stories\, songs and rhymes in Spanish and English!\nRecommended age: 3-5 Years Old
URL:https://www.hutchpl.org/event/little-language-learners/2026-01-15/
CATEGORIES:Children's Activities
ATTACH;FMTTYPE=image/png:https://www.hutchpl.org/wp-content/uploads/2025/02/bilingual-storytime-1.png
END:VEVENT
BEGIN:VEVENT
DTSTART;TZID=America/Chicago:20260116T103000
DTEND;TZID=America/Chicago:20260116T110000
DTSTAMP:20260421T130158
CREATED:20260102T222107Z
LAST-MODIFIED:20260212T225433Z
UID:10001918-1768559400-1768561200@www.hutchpl.org
SUMMARY:Giggles & Glue
DESCRIPTION:Explore your child’s creativity with some pre-k craft projects!\nRecommended age: 3-5 Years Old
URL:https://www.hutchpl.org/event/giggles-glue-3/2026-01-16/
LOCATION:Hutchinson Public Library\, 901 N Main St\, Hutchinson\, KS\, 67501\, United States
CATEGORIES:Children's Activities
ATTACH;FMTTYPE=image/png:https://www.hutchpl.org/wp-content/uploads/2025/02/giggles-and-glue.png
GEO:38.062854;-97.931871
X-APPLE-STRUCTURED-LOCATION;VALUE=URI;X-ADDRESS=Hutchinson Public Library 901 N Main St Hutchinson KS 67501 United States;X-APPLE-RADIUS=500;X-TITLE=901 N Main St:geo:-97.931871,38.062854
END:VEVENT
END:VCALENDAR