BEGIN:VCALENDAR
VERSION:2.0
PRODID:-//Hutchinson Public Library - ECPv6.15.17.1//NONSGML v1.0//EN
CALSCALE:GREGORIAN
METHOD:PUBLISH
X-WR-CALNAME:Hutchinson Public Library
X-ORIGINAL-URL:https://www.hutchpl.org
X-WR-CALDESC:Events for Hutchinson Public Library
REFRESH-INTERVAL;VALUE=DURATION:PT1H
X-Robots-Tag:noindex
X-PUBLISHED-TTL:PT1H
BEGIN:VTIMEZONE
TZID:America/Chicago
BEGIN:DAYLIGHT
TZOFFSETFROM:-0600
TZOFFSETTO:-0500
TZNAME:CDT
DTSTART:20240310T080000
END:DAYLIGHT
BEGIN:STANDARD
TZOFFSETFROM:-0500
TZOFFSETTO:-0600
TZNAME:CST
DTSTART:20241103T070000
END:STANDARD
BEGIN:DAYLIGHT
TZOFFSETFROM:-0600
TZOFFSETTO:-0500
TZNAME:CDT
DTSTART:20250309T080000
END:DAYLIGHT
BEGIN:STANDARD
TZOFFSETFROM:-0500
TZOFFSETTO:-0600
TZNAME:CST
DTSTART:20251102T070000
END:STANDARD
BEGIN:DAYLIGHT
TZOFFSETFROM:-0600
TZOFFSETTO:-0500
TZNAME:CDT
DTSTART:20260308T080000
END:DAYLIGHT
BEGIN:STANDARD
TZOFFSETFROM:-0500
TZOFFSETTO:-0600
TZNAME:CST
DTSTART:20261101T070000
END:STANDARD
END:VTIMEZONE
BEGIN:VTIMEZONE
TZID:UTC
BEGIN:STANDARD
TZOFFSETFROM:+0000
TZOFFSETTO:+0000
TZNAME:UTC
DTSTART:20240101T000000
END:STANDARD
END:VTIMEZONE
BEGIN:VEVENT
DTSTART;TZID=America/Chicago:20250929T103000
DTEND;TZID=America/Chicago:20250929T110000
DTSTAMP:20260421T212043
CREATED:20250916T135725Z
LAST-MODIFIED:20251104T203915Z
UID:10001132-1759141800-1759143600@www.hutchpl.org
SUMMARY:Toddler Time
DESCRIPTION:Recommended age: 18 months – 2 years\nA storytime at HPL (for babies\, toddlers\, or preschoolers) includes books\, songs\, rhymes\, music\, and more– chosen for the appropriate age!\nYou and your child will create a strong bond\, build lasting memories\, and learn through play with their peers!
URL:https://www.hutchpl.org/event/toddler-time-3/2025-09-29/
CATEGORIES:Children's Activities
ATTACH;FMTTYPE=image/jpeg:https://www.hutchpl.org/wp-content/uploads/2025/02/Toddler_Storytime-2-1440x650-2-1080x488-1.jpg
END:VEVENT
BEGIN:VEVENT
DTSTART;TZID=America/Chicago:20250929T110000
DTEND;TZID=America/Chicago:20250929T113000
DTSTAMP:20260421T212043
CREATED:20250916T135444Z
LAST-MODIFIED:20251104T203834Z
UID:10001104-1759143600-1759145400@www.hutchpl.org
SUMMARY:Baby Time
DESCRIPTION:Recommended age: Birth – 18 months\nA storytime at HPL (for babies\, toddlers\, or preschoolers) includes books\, songs\, rhymes\, music\, and more– chosen for the appropriate age!\nYou and your child will create a strong bond\, build lasting memories\, and learn through play with their peers!
URL:https://www.hutchpl.org/event/baby-time-3/2025-09-29/
LOCATION:Hutchinson Public Library\, 901 N Main St\, Hutchinson\, KS\, 67501\, United States
CATEGORIES:Children's Activities
ATTACH;FMTTYPE=image/png:https://www.hutchpl.org/wp-content/uploads/2025/02/Baby-time-1200x650-2-1080x488-1.png
GEO:38.062854;-97.931871
X-APPLE-STRUCTURED-LOCATION;VALUE=URI;X-ADDRESS=Hutchinson Public Library 901 N Main St Hutchinson KS 67501 United States;X-APPLE-RADIUS=500;X-TITLE=901 N Main St:geo:-97.931871,38.062854
END:VEVENT
BEGIN:VEVENT
DTSTART;TZID=America/Chicago:20250930T103000
DTEND;TZID=America/Chicago:20250930T110000
DTSTAMP:20260421T212043
CREATED:20250916T135725Z
LAST-MODIFIED:20251104T203915Z
UID:10001133-1759228200-1759230000@www.hutchpl.org
SUMMARY:Toddler Time
DESCRIPTION:Recommended age: 18 months – 2 years\nA storytime at HPL (for babies\, toddlers\, or preschoolers) includes books\, songs\, rhymes\, music\, and more– chosen for the appropriate age!\nYou and your child will create a strong bond\, build lasting memories\, and learn through play with their peers!
URL:https://www.hutchpl.org/event/toddler-time-3/2025-09-30/
CATEGORIES:Children's Activities
ATTACH;FMTTYPE=image/jpeg:https://www.hutchpl.org/wp-content/uploads/2025/02/Toddler_Storytime-2-1440x650-2-1080x488-1.jpg
END:VEVENT
BEGIN:VEVENT
DTSTART;TZID=America/Chicago:20250930T110000
DTEND;TZID=America/Chicago:20250930T113000
DTSTAMP:20260421T212043
CREATED:20250916T135444Z
LAST-MODIFIED:20251104T203834Z
UID:10001105-1759230000-1759231800@www.hutchpl.org
SUMMARY:Baby Time
DESCRIPTION:Recommended age: Birth – 18 months\nA storytime at HPL (for babies\, toddlers\, or preschoolers) includes books\, songs\, rhymes\, music\, and more– chosen for the appropriate age!\nYou and your child will create a strong bond\, build lasting memories\, and learn through play with their peers!
URL:https://www.hutchpl.org/event/baby-time-3/2025-09-30/
LOCATION:Hutchinson Public Library\, 901 N Main St\, Hutchinson\, KS\, 67501\, United States
CATEGORIES:Children's Activities
ATTACH;FMTTYPE=image/png:https://www.hutchpl.org/wp-content/uploads/2025/02/Baby-time-1200x650-2-1080x488-1.png
GEO:38.062854;-97.931871
X-APPLE-STRUCTURED-LOCATION;VALUE=URI;X-ADDRESS=Hutchinson Public Library 901 N Main St Hutchinson KS 67501 United States;X-APPLE-RADIUS=500;X-TITLE=901 N Main St:geo:-97.931871,38.062854
END:VEVENT
BEGIN:VEVENT
DTSTART;TZID=America/Chicago:20251001T103000
DTEND;TZID=America/Chicago:20251001T110000
DTSTAMP:20260421T212043
CREATED:20250916T141941Z
LAST-MODIFIED:20250916T141941Z
UID:10001218-1759314600-1759316400@www.hutchpl.org
SUMMARY:Preschool Storytime
DESCRIPTION:Recommended age: 3-5 with a caregiver\nA storytime at HPL (for babies\, toddlers\, or preschoolers) includes books\, songs\, rhymes\, music\, and more– chosen for the appropriate age!\nYou and your child will create a strong bond\, build lasting memories\, and learn through play with their peers!
URL:https://www.hutchpl.org/event/preschool-storytime-3/2025-10-01/
CATEGORIES:Children's Activities
ATTACH;FMTTYPE=image/png:https://www.hutchpl.org/wp-content/uploads/2025/02/preschool-time-3.png
END:VEVENT
BEGIN:VEVENT
DTSTART;TZID=America/Chicago:20251002T103000
DTEND;TZID=America/Chicago:20251002T110000
DTSTAMP:20260421T212043
CREATED:20250916T142111Z
LAST-MODIFIED:20250916T142111Z
UID:10001232-1759401000-1759402800@www.hutchpl.org
SUMMARY:Bilingual Storytime
DESCRIPTION:Enjoy stories\, songs and rhymes in Spanish and English!\nRecommended age: 3-5 Years Old
URL:https://www.hutchpl.org/event/bilingual-storytime-3/2025-10-02/
CATEGORIES:Children's Activities
ATTACH;FMTTYPE=image/png:https://www.hutchpl.org/wp-content/uploads/2025/02/bilingual-storytime-1.png
END:VEVENT
BEGIN:VEVENT
DTSTART;TZID=America/Chicago:20251003T103000
DTEND;TZID=America/Chicago:20251003T110000
DTSTAMP:20260421T212043
CREATED:20250916T142358Z
LAST-MODIFIED:20251013T145555Z
UID:10001247-1759487400-1759489200@www.hutchpl.org
SUMMARY:Giggles & Glue
DESCRIPTION:Explore your child’s creativity with some pre-k craft projects!\nRecommended age: 3-5 Years Old
URL:https://www.hutchpl.org/event/giggles-glue-2/2025-10-03/
LOCATION:Hutchinson Public Library\, 901 N Main St\, Hutchinson\, KS\, 67501\, United States
CATEGORIES:Children's Activities
ATTACH;FMTTYPE=image/png:https://www.hutchpl.org/wp-content/uploads/2025/02/giggles-and-glue.png
GEO:38.062854;-97.931871
X-APPLE-STRUCTURED-LOCATION;VALUE=URI;X-ADDRESS=Hutchinson Public Library 901 N Main St Hutchinson KS 67501 United States;X-APPLE-RADIUS=500;X-TITLE=901 N Main St:geo:-97.931871,38.062854
END:VEVENT
BEGIN:VEVENT
DTSTART;TZID=UTC:20251004T103000
DTEND;TZID=UTC:20251004T120000
DTSTAMP:20260421T212043
CREATED:20250108T225125Z
LAST-MODIFIED:20250108T225125Z
UID:10000085-1759573800-1759579200@www.hutchpl.org
SUMMARY:LEGOS® at the Library
DESCRIPTION:Learn about creative ways to build and explore your own ingenuity and imagination\, and socialize with other LEGO fans! Check out our collection of LEGO books as well.\nThis is a free program\, does not require registration\, and is suitable for children & families ages 3 – 12 (younger children should be carefully monitored because of choking hazards). Building prompts and challenges may be provided by library staff\, but are not mandatory.  
URL:https://www.hutchpl.org/event/legos-at-the-library-9/
LOCATION:Hutchinson Public Library\, 901 N Main St\, Hutchinson\, KS\, 67501\, United States
CATEGORIES:Children's Activities
ATTACH;FMTTYPE=image/jpeg:https://www.hutchpl.org/wp-content/uploads/2025/01/Legos-at-the-Library-dkMBW0.tmp_.jpg
GEO:38.062854;-97.931871
X-APPLE-STRUCTURED-LOCATION;VALUE=URI;X-ADDRESS=Hutchinson Public Library 901 N Main St Hutchinson KS 67501 United States;X-APPLE-RADIUS=500;X-TITLE=901 N Main St:geo:-97.931871,38.062854
END:VEVENT
END:VCALENDAR