BEGIN:VCALENDAR
VERSION:2.0
PRODID:-//Hutchinson Public Library - ECPv6.15.17.1//NONSGML v1.0//EN
CALSCALE:GREGORIAN
METHOD:PUBLISH
X-WR-CALNAME:Hutchinson Public Library
X-ORIGINAL-URL:https://www.hutchpl.org
X-WR-CALDESC:Events for Hutchinson Public Library
REFRESH-INTERVAL;VALUE=DURATION:PT1H
X-Robots-Tag:noindex
X-PUBLISHED-TTL:PT1H
BEGIN:VTIMEZONE
TZID:America/Chicago
BEGIN:DAYLIGHT
TZOFFSETFROM:-0600
TZOFFSETTO:-0500
TZNAME:CDT
DTSTART:20240310T080000
END:DAYLIGHT
BEGIN:STANDARD
TZOFFSETFROM:-0500
TZOFFSETTO:-0600
TZNAME:CST
DTSTART:20241103T070000
END:STANDARD
BEGIN:DAYLIGHT
TZOFFSETFROM:-0600
TZOFFSETTO:-0500
TZNAME:CDT
DTSTART:20250309T080000
END:DAYLIGHT
BEGIN:STANDARD
TZOFFSETFROM:-0500
TZOFFSETTO:-0600
TZNAME:CST
DTSTART:20251102T070000
END:STANDARD
BEGIN:DAYLIGHT
TZOFFSETFROM:-0600
TZOFFSETTO:-0500
TZNAME:CDT
DTSTART:20260308T080000
END:DAYLIGHT
BEGIN:STANDARD
TZOFFSETFROM:-0500
TZOFFSETTO:-0600
TZNAME:CST
DTSTART:20261101T070000
END:STANDARD
END:VTIMEZONE
BEGIN:VEVENT
DTSTART;TZID=America/Chicago:20250728T103000
DTEND;TZID=America/Chicago:20250728T110000
DTSTAMP:20260425T064451
CREATED:20250529T165307Z
LAST-MODIFIED:20250529T165307Z
UID:10000931-1753698600-1753700400@www.hutchpl.org
SUMMARY:Toddler Time
DESCRIPTION:Recommended age: 18 months – 2 years\nA storytime at HPL (for babies\, toddlers\, or preschoolers) includes books\, songs\, rhymes\, music\, and more– chosen for the appropriate age!\nYou and your child will create a strong bond\, build lasting memories\, and learn through play with their peers!
URL:https://www.hutchpl.org/event/toddler-time-2/2025-07-28/
LOCATION:Hutchinson Public Library\, 901 N Main St\, Hutchinson\, KS\, 67501\, United States
CATEGORIES:Children's Activities,Family
ATTACH;FMTTYPE=image/jpeg:https://www.hutchpl.org/wp-content/uploads/2025/02/Toddler_Storytime-2-1440x650-2-1080x488-1.jpg
GEO:38.062854;-97.931871
X-APPLE-STRUCTURED-LOCATION;VALUE=URI;X-ADDRESS=Hutchinson Public Library 901 N Main St Hutchinson KS 67501 United States;X-APPLE-RADIUS=500;X-TITLE=901 N Main St:geo:-97.931871,38.062854
END:VEVENT
BEGIN:VEVENT
DTSTART;TZID=America/Chicago:20250729T103000
DTEND;TZID=America/Chicago:20250729T110000
DTSTAMP:20260425T064451
CREATED:20250529T165307Z
LAST-MODIFIED:20250529T165307Z
UID:10000932-1753785000-1753786800@www.hutchpl.org
SUMMARY:Toddler Time
DESCRIPTION:Recommended age: 18 months – 2 years\nA storytime at HPL (for babies\, toddlers\, or preschoolers) includes books\, songs\, rhymes\, music\, and more– chosen for the appropriate age!\nYou and your child will create a strong bond\, build lasting memories\, and learn through play with their peers!
URL:https://www.hutchpl.org/event/toddler-time-2/2025-07-29/
LOCATION:Hutchinson Public Library\, 901 N Main St\, Hutchinson\, KS\, 67501\, United States
CATEGORIES:Children's Activities,Family
ATTACH;FMTTYPE=image/jpeg:https://www.hutchpl.org/wp-content/uploads/2025/02/Toddler_Storytime-2-1440x650-2-1080x488-1.jpg
GEO:38.062854;-97.931871
X-APPLE-STRUCTURED-LOCATION;VALUE=URI;X-ADDRESS=Hutchinson Public Library 901 N Main St Hutchinson KS 67501 United States;X-APPLE-RADIUS=500;X-TITLE=901 N Main St:geo:-97.931871,38.062854
END:VEVENT
BEGIN:VEVENT
DTSTART;TZID=America/Chicago:20250729T183000
DTEND;TZID=America/Chicago:20250729T193000
DTSTAMP:20260425T064451
CREATED:20250602T163333Z
LAST-MODIFIED:20250602T163333Z
UID:10000968-1753813800-1753817400@www.hutchpl.org
SUMMARY:Family Night
DESCRIPTION:Enjoy special programs at the library with our community partners! Join us in the Children’s Activity Room for a fun evening for all ages.
URL:https://www.hutchpl.org/event/family-night/2025-07-29/
LOCATION:Hutchinson Public Library\, 901 N Main St\, Hutchinson\, KS\, 67501\, United States
CATEGORIES:Children's Activities,Family
ATTACH;FMTTYPE=image/png:https://www.hutchpl.org/wp-content/uploads/2025/06/Yellow-And-Red-Playful-Family-Fun-Day-Flyer.png
GEO:38.062854;-97.931871
X-APPLE-STRUCTURED-LOCATION;VALUE=URI;X-ADDRESS=Hutchinson Public Library 901 N Main St Hutchinson KS 67501 United States;X-APPLE-RADIUS=500;X-TITLE=901 N Main St:geo:-97.931871,38.062854
END:VEVENT
BEGIN:VEVENT
DTSTART;TZID=America/Chicago:20250730T103000
DTEND;TZID=America/Chicago:20250730T110000
DTSTAMP:20260425T064451
CREATED:20250529T170136Z
LAST-MODIFIED:20250529T170136Z
UID:10000947-1753871400-1753873200@www.hutchpl.org
SUMMARY:Youth Storytimes
DESCRIPTION:Children’s Activity Room \nRecommended Age: all ages!\nA storytime at HPL includes books\, songs\, rhymes\, music\, and more– chosen for the appropriate age!\nYou and your child will create a strong bond\, build lasting memories\, and learn through play with their peers!
URL:https://www.hutchpl.org/event/youth-storytimes/2025-07-30/
LOCATION:Hutchinson Public Library\, 901 N Main St\, Hutchinson\, KS\, 67501\, United States
CATEGORIES:Children's Activities,Family
ATTACH;FMTTYPE=image/png:https://www.hutchpl.org/wp-content/uploads/2025/02/preschool-time-3.png
GEO:38.062854;-97.931871
X-APPLE-STRUCTURED-LOCATION;VALUE=URI;X-ADDRESS=Hutchinson Public Library 901 N Main St Hutchinson KS 67501 United States;X-APPLE-RADIUS=500;X-TITLE=901 N Main St:geo:-97.931871,38.062854
END:VEVENT
BEGIN:VEVENT
DTSTART;TZID=America/Chicago:20250731T103000
DTEND;TZID=America/Chicago:20250731T110000
DTSTAMP:20260425T064451
CREATED:20250529T170136Z
LAST-MODIFIED:20250529T170136Z
UID:10000948-1753957800-1753959600@www.hutchpl.org
SUMMARY:Youth Storytimes
DESCRIPTION:Children’s Activity Room \nRecommended Age: all ages!\nA storytime at HPL includes books\, songs\, rhymes\, music\, and more– chosen for the appropriate age!\nYou and your child will create a strong bond\, build lasting memories\, and learn through play with their peers!
URL:https://www.hutchpl.org/event/youth-storytimes/2025-07-31/
LOCATION:Hutchinson Public Library\, 901 N Main St\, Hutchinson\, KS\, 67501\, United States
CATEGORIES:Children's Activities,Family
ATTACH;FMTTYPE=image/png:https://www.hutchpl.org/wp-content/uploads/2025/02/preschool-time-3.png
GEO:38.062854;-97.931871
X-APPLE-STRUCTURED-LOCATION;VALUE=URI;X-ADDRESS=Hutchinson Public Library 901 N Main St Hutchinson KS 67501 United States;X-APPLE-RADIUS=500;X-TITLE=901 N Main St:geo:-97.931871,38.062854
END:VEVENT
END:VCALENDAR