BEGIN:VCALENDAR
VERSION:2.0
PRODID:-//Hutchinson Public Library - ECPv6.15.17.1//NONSGML v1.0//EN
CALSCALE:GREGORIAN
METHOD:PUBLISH
X-ORIGINAL-URL:https://www.hutchpl.org
X-WR-CALDESC:Events for Hutchinson Public Library
REFRESH-INTERVAL;VALUE=DURATION:PT1H
X-Robots-Tag:noindex
X-PUBLISHED-TTL:PT1H
BEGIN:VTIMEZONE
TZID:America/Chicago
BEGIN:DAYLIGHT
TZOFFSETFROM:-0600
TZOFFSETTO:-0500
TZNAME:CDT
DTSTART:20240310T080000
END:DAYLIGHT
BEGIN:STANDARD
TZOFFSETFROM:-0500
TZOFFSETTO:-0600
TZNAME:CST
DTSTART:20241103T070000
END:STANDARD
BEGIN:DAYLIGHT
TZOFFSETFROM:-0600
TZOFFSETTO:-0500
TZNAME:CDT
DTSTART:20250309T080000
END:DAYLIGHT
BEGIN:STANDARD
TZOFFSETFROM:-0500
TZOFFSETTO:-0600
TZNAME:CST
DTSTART:20251102T070000
END:STANDARD
BEGIN:DAYLIGHT
TZOFFSETFROM:-0600
TZOFFSETTO:-0500
TZNAME:CDT
DTSTART:20260308T080000
END:DAYLIGHT
BEGIN:STANDARD
TZOFFSETFROM:-0500
TZOFFSETTO:-0600
TZNAME:CST
DTSTART:20261101T070000
END:STANDARD
END:VTIMEZONE
BEGIN:VTIMEZONE
TZID:UTC
BEGIN:STANDARD
TZOFFSETFROM:+0000
TZOFFSETTO:+0000
TZNAME:UTC
DTSTART:20240101T000000
END:STANDARD
END:VTIMEZONE
BEGIN:VEVENT
DTSTART;TZID=America/Chicago:20251014T110000
DTEND;TZID=America/Chicago:20251014T113000
DTSTAMP:20260419T090612
CREATED:20250916T135444Z
LAST-MODIFIED:20251104T203834Z
UID:10001109-1760439600-1760441400@www.hutchpl.org
SUMMARY:Baby Time
DESCRIPTION:Recommended age: Birth – 18 months\nA storytime at HPL (for babies\, toddlers\, or preschoolers) includes books\, songs\, rhymes\, music\, and more– chosen for the appropriate age!\nYou and your child will create a strong bond\, build lasting memories\, and learn through play with their peers!
URL:https://www.hutchpl.org/event/baby-time-3/2025-10-14/
LOCATION:Hutchinson Public Library\, 901 N Main St\, Hutchinson\, KS\, 67501\, United States
CATEGORIES:Children's Activities
ATTACH;FMTTYPE=image/png:https://www.hutchpl.org/wp-content/uploads/2025/02/Baby-time-1200x650-2-1080x488-1.png
GEO:38.062854;-97.931871
X-APPLE-STRUCTURED-LOCATION;VALUE=URI;X-ADDRESS=Hutchinson Public Library 901 N Main St Hutchinson KS 67501 United States;X-APPLE-RADIUS=500;X-TITLE=901 N Main St:geo:-97.931871,38.062854
END:VEVENT
BEGIN:VEVENT
DTSTART;TZID=America/Chicago:20251015T103000
DTEND;TZID=America/Chicago:20251015T110000
DTSTAMP:20260419T090612
CREATED:20250916T141941Z
LAST-MODIFIED:20250916T141941Z
UID:10001220-1760524200-1760526000@www.hutchpl.org
SUMMARY:Preschool Storytime
DESCRIPTION:Recommended age: 3-5 with a caregiver\nA storytime at HPL (for babies\, toddlers\, or preschoolers) includes books\, songs\, rhymes\, music\, and more– chosen for the appropriate age!\nYou and your child will create a strong bond\, build lasting memories\, and learn through play with their peers!
URL:https://www.hutchpl.org/event/preschool-storytime-3/2025-10-15/
LOCATION:KS
CATEGORIES:Children's Activities
ATTACH;FMTTYPE=image/png:https://www.hutchpl.org/wp-content/uploads/2025/02/preschool-time-3.png
END:VEVENT
BEGIN:VEVENT
DTSTART;TZID=America/Chicago:20251016T103000
DTEND;TZID=America/Chicago:20251016T110000
DTSTAMP:20260419T090612
CREATED:20250916T142111Z
LAST-MODIFIED:20250916T142111Z
UID:10001234-1760610600-1760612400@www.hutchpl.org
SUMMARY:Bilingual Storytime
DESCRIPTION:Enjoy stories\, songs and rhymes in Spanish and English!\nRecommended age: 3-5 Years Old
URL:https://www.hutchpl.org/event/bilingual-storytime-3/2025-10-16/
LOCATION:KS
CATEGORIES:Children's Activities
ATTACH;FMTTYPE=image/png:https://www.hutchpl.org/wp-content/uploads/2025/02/bilingual-storytime-1.png
END:VEVENT
BEGIN:VEVENT
DTSTART;TZID=America/Chicago:20251017T103000
DTEND;TZID=America/Chicago:20251017T110000
DTSTAMP:20260419T090612
CREATED:20250916T142358Z
LAST-MODIFIED:20251013T145555Z
UID:10001249-1760697000-1760698800@www.hutchpl.org
SUMMARY:Giggles & Glue
DESCRIPTION:Explore your child’s creativity with some pre-k craft projects!\nRecommended age: 3-5 Years Old
URL:https://www.hutchpl.org/event/giggles-glue-2/2025-10-17/
LOCATION:Hutchinson Public Library\, 901 N Main St\, Hutchinson\, KS\, 67501\, United States
CATEGORIES:Children's Activities
ATTACH;FMTTYPE=image/png:https://www.hutchpl.org/wp-content/uploads/2025/02/giggles-and-glue.png
GEO:38.062854;-97.931871
X-APPLE-STRUCTURED-LOCATION;VALUE=URI;X-ADDRESS=Hutchinson Public Library 901 N Main St Hutchinson KS 67501 United States;X-APPLE-RADIUS=500;X-TITLE=901 N Main St:geo:-97.931871,38.062854
END:VEVENT
BEGIN:VEVENT
DTSTART;TZID=America/Chicago:20251020T103000
DTEND;TZID=America/Chicago:20251020T110000
DTSTAMP:20260419T090612
CREATED:20250916T135725Z
LAST-MODIFIED:20251104T203915Z
UID:10001138-1760956200-1760958000@www.hutchpl.org
SUMMARY:Toddler Time
DESCRIPTION:Recommended age: 18 months – 2 years\nA storytime at HPL (for babies\, toddlers\, or preschoolers) includes books\, songs\, rhymes\, music\, and more– chosen for the appropriate age!\nYou and your child will create a strong bond\, build lasting memories\, and learn through play with their peers!
URL:https://www.hutchpl.org/event/toddler-time-3/2025-10-20/
LOCATION:KS
CATEGORIES:Children's Activities
ATTACH;FMTTYPE=image/jpeg:https://www.hutchpl.org/wp-content/uploads/2025/02/Toddler_Storytime-2-1440x650-2-1080x488-1.jpg
END:VEVENT
BEGIN:VEVENT
DTSTART;TZID=America/Chicago:20251020T110000
DTEND;TZID=America/Chicago:20251020T113000
DTSTAMP:20260419T090612
CREATED:20250916T135444Z
LAST-MODIFIED:20251104T203834Z
UID:10001110-1760958000-1760959800@www.hutchpl.org
SUMMARY:Baby Time
DESCRIPTION:Recommended age: Birth – 18 months\nA storytime at HPL (for babies\, toddlers\, or preschoolers) includes books\, songs\, rhymes\, music\, and more– chosen for the appropriate age!\nYou and your child will create a strong bond\, build lasting memories\, and learn through play with their peers!
URL:https://www.hutchpl.org/event/baby-time-3/2025-10-20/
LOCATION:Hutchinson Public Library\, 901 N Main St\, Hutchinson\, KS\, 67501\, United States
CATEGORIES:Children's Activities
ATTACH;FMTTYPE=image/png:https://www.hutchpl.org/wp-content/uploads/2025/02/Baby-time-1200x650-2-1080x488-1.png
GEO:38.062854;-97.931871
X-APPLE-STRUCTURED-LOCATION;VALUE=URI;X-ADDRESS=Hutchinson Public Library 901 N Main St Hutchinson KS 67501 United States;X-APPLE-RADIUS=500;X-TITLE=901 N Main St:geo:-97.931871,38.062854
END:VEVENT
BEGIN:VEVENT
DTSTART;TZID=America/Chicago:20251021T103000
DTEND;TZID=America/Chicago:20251021T110000
DTSTAMP:20260419T090612
CREATED:20250916T135725Z
LAST-MODIFIED:20251104T203915Z
UID:10001139-1761042600-1761044400@www.hutchpl.org
SUMMARY:Toddler Time
DESCRIPTION:Recommended age: 18 months – 2 years\nA storytime at HPL (for babies\, toddlers\, or preschoolers) includes books\, songs\, rhymes\, music\, and more– chosen for the appropriate age!\nYou and your child will create a strong bond\, build lasting memories\, and learn through play with their peers!
URL:https://www.hutchpl.org/event/toddler-time-3/2025-10-21/
LOCATION:KS
CATEGORIES:Children's Activities
ATTACH;FMTTYPE=image/jpeg:https://www.hutchpl.org/wp-content/uploads/2025/02/Toddler_Storytime-2-1440x650-2-1080x488-1.jpg
END:VEVENT
BEGIN:VEVENT
DTSTART;TZID=America/Chicago:20251021T110000
DTEND;TZID=America/Chicago:20251021T113000
DTSTAMP:20260419T090612
CREATED:20250916T135444Z
LAST-MODIFIED:20251104T203834Z
UID:10001111-1761044400-1761046200@www.hutchpl.org
SUMMARY:Baby Time
DESCRIPTION:Recommended age: Birth – 18 months\nA storytime at HPL (for babies\, toddlers\, or preschoolers) includes books\, songs\, rhymes\, music\, and more– chosen for the appropriate age!\nYou and your child will create a strong bond\, build lasting memories\, and learn through play with their peers!
URL:https://www.hutchpl.org/event/baby-time-3/2025-10-21/
LOCATION:Hutchinson Public Library\, 901 N Main St\, Hutchinson\, KS\, 67501\, United States
CATEGORIES:Children's Activities
ATTACH;FMTTYPE=image/png:https://www.hutchpl.org/wp-content/uploads/2025/02/Baby-time-1200x650-2-1080x488-1.png
GEO:38.062854;-97.931871
X-APPLE-STRUCTURED-LOCATION;VALUE=URI;X-ADDRESS=Hutchinson Public Library 901 N Main St Hutchinson KS 67501 United States;X-APPLE-RADIUS=500;X-TITLE=901 N Main St:geo:-97.931871,38.062854
END:VEVENT
BEGIN:VEVENT
DTSTART;TZID=America/Chicago:20251022T103000
DTEND;TZID=America/Chicago:20251022T110000
DTSTAMP:20260419T090612
CREATED:20250916T141941Z
LAST-MODIFIED:20250916T141941Z
UID:10001221-1761129000-1761130800@www.hutchpl.org
SUMMARY:Preschool Storytime
DESCRIPTION:Recommended age: 3-5 with a caregiver\nA storytime at HPL (for babies\, toddlers\, or preschoolers) includes books\, songs\, rhymes\, music\, and more– chosen for the appropriate age!\nYou and your child will create a strong bond\, build lasting memories\, and learn through play with their peers!
URL:https://www.hutchpl.org/event/preschool-storytime-3/2025-10-22/
LOCATION:KS
CATEGORIES:Children's Activities
ATTACH;FMTTYPE=image/png:https://www.hutchpl.org/wp-content/uploads/2025/02/preschool-time-3.png
END:VEVENT
BEGIN:VEVENT
DTSTART;TZID=America/Chicago:20251023T103000
DTEND;TZID=America/Chicago:20251023T110000
DTSTAMP:20260419T090612
CREATED:20250916T142111Z
LAST-MODIFIED:20250916T142111Z
UID:10001235-1761215400-1761217200@www.hutchpl.org
SUMMARY:Bilingual Storytime
DESCRIPTION:Enjoy stories\, songs and rhymes in Spanish and English!\nRecommended age: 3-5 Years Old
URL:https://www.hutchpl.org/event/bilingual-storytime-3/2025-10-23/
LOCATION:KS
CATEGORIES:Children's Activities
ATTACH;FMTTYPE=image/png:https://www.hutchpl.org/wp-content/uploads/2025/02/bilingual-storytime-1.png
END:VEVENT
BEGIN:VEVENT
DTSTART;TZID=America/Chicago:20251024T103000
DTEND;TZID=America/Chicago:20251024T110000
DTSTAMP:20260419T090612
CREATED:20250916T142358Z
LAST-MODIFIED:20251013T145555Z
UID:10001250-1761301800-1761303600@www.hutchpl.org
SUMMARY:Giggles & Glue
DESCRIPTION:Explore your child’s creativity with some pre-k craft projects!\nRecommended age: 3-5 Years Old
URL:https://www.hutchpl.org/event/giggles-glue-2/2025-10-24/
LOCATION:Hutchinson Public Library\, 901 N Main St\, Hutchinson\, KS\, 67501\, United States
CATEGORIES:Children's Activities
ATTACH;FMTTYPE=image/png:https://www.hutchpl.org/wp-content/uploads/2025/02/giggles-and-glue.png
GEO:38.062854;-97.931871
X-APPLE-STRUCTURED-LOCATION;VALUE=URI;X-ADDRESS=Hutchinson Public Library 901 N Main St Hutchinson KS 67501 United States;X-APPLE-RADIUS=500;X-TITLE=901 N Main St:geo:-97.931871,38.062854
END:VEVENT
BEGIN:VEVENT
DTSTART;TZID=America/Chicago:20251027T103000
DTEND;TZID=America/Chicago:20251027T110000
DTSTAMP:20260419T090612
CREATED:20250916T135725Z
LAST-MODIFIED:20251104T203915Z
UID:10001140-1761561000-1761562800@www.hutchpl.org
SUMMARY:Toddler Time
DESCRIPTION:Recommended age: 18 months – 2 years\nA storytime at HPL (for babies\, toddlers\, or preschoolers) includes books\, songs\, rhymes\, music\, and more– chosen for the appropriate age!\nYou and your child will create a strong bond\, build lasting memories\, and learn through play with their peers!
URL:https://www.hutchpl.org/event/toddler-time-3/2025-10-27/
LOCATION:KS
CATEGORIES:Children's Activities
ATTACH;FMTTYPE=image/jpeg:https://www.hutchpl.org/wp-content/uploads/2025/02/Toddler_Storytime-2-1440x650-2-1080x488-1.jpg
END:VEVENT
BEGIN:VEVENT
DTSTART;TZID=America/Chicago:20251027T110000
DTEND;TZID=America/Chicago:20251027T113000
DTSTAMP:20260419T090612
CREATED:20250916T135444Z
LAST-MODIFIED:20251104T203834Z
UID:10001112-1761562800-1761564600@www.hutchpl.org
SUMMARY:Baby Time
DESCRIPTION:Recommended age: Birth – 18 months\nA storytime at HPL (for babies\, toddlers\, or preschoolers) includes books\, songs\, rhymes\, music\, and more– chosen for the appropriate age!\nYou and your child will create a strong bond\, build lasting memories\, and learn through play with their peers!
URL:https://www.hutchpl.org/event/baby-time-3/2025-10-27/
LOCATION:Hutchinson Public Library\, 901 N Main St\, Hutchinson\, KS\, 67501\, United States
CATEGORIES:Children's Activities
ATTACH;FMTTYPE=image/png:https://www.hutchpl.org/wp-content/uploads/2025/02/Baby-time-1200x650-2-1080x488-1.png
GEO:38.062854;-97.931871
X-APPLE-STRUCTURED-LOCATION;VALUE=URI;X-ADDRESS=Hutchinson Public Library 901 N Main St Hutchinson KS 67501 United States;X-APPLE-RADIUS=500;X-TITLE=901 N Main St:geo:-97.931871,38.062854
END:VEVENT
BEGIN:VEVENT
DTSTART;TZID=America/Chicago:20251028T103000
DTEND;TZID=America/Chicago:20251028T110000
DTSTAMP:20260419T090612
CREATED:20250916T135725Z
LAST-MODIFIED:20251104T203915Z
UID:10001141-1761647400-1761649200@www.hutchpl.org
SUMMARY:Toddler Time
DESCRIPTION:Recommended age: 18 months – 2 years\nA storytime at HPL (for babies\, toddlers\, or preschoolers) includes books\, songs\, rhymes\, music\, and more– chosen for the appropriate age!\nYou and your child will create a strong bond\, build lasting memories\, and learn through play with their peers!
URL:https://www.hutchpl.org/event/toddler-time-3/2025-10-28/
LOCATION:KS
CATEGORIES:Children's Activities
ATTACH;FMTTYPE=image/jpeg:https://www.hutchpl.org/wp-content/uploads/2025/02/Toddler_Storytime-2-1440x650-2-1080x488-1.jpg
END:VEVENT
BEGIN:VEVENT
DTSTART;TZID=America/Chicago:20251028T110000
DTEND;TZID=America/Chicago:20251028T113000
DTSTAMP:20260419T090612
CREATED:20250916T135444Z
LAST-MODIFIED:20251104T203834Z
UID:10001113-1761649200-1761651000@www.hutchpl.org
SUMMARY:Baby Time
DESCRIPTION:Recommended age: Birth – 18 months\nA storytime at HPL (for babies\, toddlers\, or preschoolers) includes books\, songs\, rhymes\, music\, and more– chosen for the appropriate age!\nYou and your child will create a strong bond\, build lasting memories\, and learn through play with their peers!
URL:https://www.hutchpl.org/event/baby-time-3/2025-10-28/
LOCATION:Hutchinson Public Library\, 901 N Main St\, Hutchinson\, KS\, 67501\, United States
CATEGORIES:Children's Activities
ATTACH;FMTTYPE=image/png:https://www.hutchpl.org/wp-content/uploads/2025/02/Baby-time-1200x650-2-1080x488-1.png
GEO:38.062854;-97.931871
X-APPLE-STRUCTURED-LOCATION;VALUE=URI;X-ADDRESS=Hutchinson Public Library 901 N Main St Hutchinson KS 67501 United States;X-APPLE-RADIUS=500;X-TITLE=901 N Main St:geo:-97.931871,38.062854
END:VEVENT
BEGIN:VEVENT
DTSTART;TZID=America/Chicago:20251029T103000
DTEND;TZID=America/Chicago:20251029T110000
DTSTAMP:20260419T090612
CREATED:20250916T141941Z
LAST-MODIFIED:20250916T141941Z
UID:10001222-1761733800-1761735600@www.hutchpl.org
SUMMARY:Preschool Storytime
DESCRIPTION:Recommended age: 3-5 with a caregiver\nA storytime at HPL (for babies\, toddlers\, or preschoolers) includes books\, songs\, rhymes\, music\, and more– chosen for the appropriate age!\nYou and your child will create a strong bond\, build lasting memories\, and learn through play with their peers!
URL:https://www.hutchpl.org/event/preschool-storytime-3/2025-10-29/
LOCATION:KS
CATEGORIES:Children's Activities
ATTACH;FMTTYPE=image/png:https://www.hutchpl.org/wp-content/uploads/2025/02/preschool-time-3.png
END:VEVENT
BEGIN:VEVENT
DTSTART;TZID=America/Chicago:20251030T103000
DTEND;TZID=America/Chicago:20251030T110000
DTSTAMP:20260419T090612
CREATED:20250916T142111Z
LAST-MODIFIED:20250916T142111Z
UID:10001236-1761820200-1761822000@www.hutchpl.org
SUMMARY:Bilingual Storytime
DESCRIPTION:Enjoy stories\, songs and rhymes in Spanish and English!\nRecommended age: 3-5 Years Old
URL:https://www.hutchpl.org/event/bilingual-storytime-3/2025-10-30/
LOCATION:KS
CATEGORIES:Children's Activities
ATTACH;FMTTYPE=image/png:https://www.hutchpl.org/wp-content/uploads/2025/02/bilingual-storytime-1.png
END:VEVENT
BEGIN:VEVENT
DTSTART;TZID=America/Chicago:20251031T103000
DTEND;TZID=America/Chicago:20251031T113000
DTSTAMP:20260419T090612
CREATED:20251013T145402Z
LAST-MODIFIED:20251013T145402Z
UID:10001473-1761906600-1761910200@www.hutchpl.org
SUMMARY:
DESCRIPTION: 
URL:https://www.hutchpl.org/event/7569/
LOCATION:Hutchinson Public Library\, 901 N Main St\, Hutchinson\, KS\, 67501\, United States
CATEGORIES:Children's Activities
ATTACH;FMTTYPE=image/png:https://www.hutchpl.org/wp-content/uploads/2025/10/halloween-storytime-Flyer-4-x-4-in.png
GEO:38.062854;-97.931871
X-APPLE-STRUCTURED-LOCATION;VALUE=URI;X-ADDRESS=Hutchinson Public Library 901 N Main St Hutchinson KS 67501 United States;X-APPLE-RADIUS=500;X-TITLE=901 N Main St:geo:-97.931871,38.062854
END:VEVENT
BEGIN:VEVENT
DTSTART;TZID=UTC:20251101T103000
DTEND;TZID=UTC:20251101T120000
DTSTAMP:20260419T090612
CREATED:20250108T225153Z
LAST-MODIFIED:20250108T225153Z
UID:10000090-1761993000-1761998400@www.hutchpl.org
SUMMARY:LEGOS® at the Library
DESCRIPTION:Learn about creative ways to build and explore your own ingenuity and imagination\, and socialize with other LEGO fans! Check out our collection of LEGO books as well.\nThis is a free program\, does not require registration\, and is suitable for children & families ages 3 – 12 (younger children should be carefully monitored because of choking hazards). Building prompts and challenges may be provided by library staff\, but are not mandatory.  
URL:https://www.hutchpl.org/event/legos-at-the-library-10/
LOCATION:Hutchinson Public Library\, 901 N Main St\, Hutchinson\, KS\, 67501\, United States
CATEGORIES:Children's Activities
ATTACH;FMTTYPE=image/jpeg:https://www.hutchpl.org/wp-content/uploads/2025/01/Legos-at-the-Library-dkMBW0.tmp_.jpg
GEO:38.062854;-97.931871
X-APPLE-STRUCTURED-LOCATION;VALUE=URI;X-ADDRESS=Hutchinson Public Library 901 N Main St Hutchinson KS 67501 United States;X-APPLE-RADIUS=500;X-TITLE=901 N Main St:geo:-97.931871,38.062854
END:VEVENT
BEGIN:VEVENT
DTSTART;TZID=America/Chicago:20251103T103000
DTEND;TZID=America/Chicago:20251103T110000
DTSTAMP:20260419T090612
CREATED:20250916T135725Z
LAST-MODIFIED:20251104T203915Z
UID:10001142-1762165800-1762167600@www.hutchpl.org
SUMMARY:Toddler Time
DESCRIPTION:Recommended age: 18 months – 2 years\nA storytime at HPL (for babies\, toddlers\, or preschoolers) includes books\, songs\, rhymes\, music\, and more– chosen for the appropriate age!\nYou and your child will create a strong bond\, build lasting memories\, and learn through play with their peers!
URL:https://www.hutchpl.org/event/toddler-time-3/2025-11-03/
LOCATION:KS
CATEGORIES:Children's Activities
ATTACH;FMTTYPE=image/jpeg:https://www.hutchpl.org/wp-content/uploads/2025/02/Toddler_Storytime-2-1440x650-2-1080x488-1.jpg
END:VEVENT
BEGIN:VEVENT
DTSTART;TZID=America/Chicago:20251103T110000
DTEND;TZID=America/Chicago:20251103T113000
DTSTAMP:20260419T090612
CREATED:20250916T135444Z
LAST-MODIFIED:20251104T203834Z
UID:10001114-1762167600-1762169400@www.hutchpl.org
SUMMARY:Baby Time
DESCRIPTION:Recommended age: Birth – 18 months\nA storytime at HPL (for babies\, toddlers\, or preschoolers) includes books\, songs\, rhymes\, music\, and more– chosen for the appropriate age!\nYou and your child will create a strong bond\, build lasting memories\, and learn through play with their peers!
URL:https://www.hutchpl.org/event/baby-time-3/2025-11-03/
LOCATION:Hutchinson Public Library\, 901 N Main St\, Hutchinson\, KS\, 67501\, United States
CATEGORIES:Children's Activities
ATTACH;FMTTYPE=image/png:https://www.hutchpl.org/wp-content/uploads/2025/02/Baby-time-1200x650-2-1080x488-1.png
GEO:38.062854;-97.931871
X-APPLE-STRUCTURED-LOCATION;VALUE=URI;X-ADDRESS=Hutchinson Public Library 901 N Main St Hutchinson KS 67501 United States;X-APPLE-RADIUS=500;X-TITLE=901 N Main St:geo:-97.931871,38.062854
END:VEVENT
BEGIN:VEVENT
DTSTART;TZID=America/Chicago:20251104T103000
DTEND;TZID=America/Chicago:20251104T110000
DTSTAMP:20260419T090612
CREATED:20250916T135725Z
LAST-MODIFIED:20251104T203915Z
UID:10001143-1762252200-1762254000@www.hutchpl.org
SUMMARY:Toddler Time
DESCRIPTION:Recommended age: 18 months – 2 years\nA storytime at HPL (for babies\, toddlers\, or preschoolers) includes books\, songs\, rhymes\, music\, and more– chosen for the appropriate age!\nYou and your child will create a strong bond\, build lasting memories\, and learn through play with their peers!
URL:https://www.hutchpl.org/event/toddler-time-3/2025-11-04/
LOCATION:KS
CATEGORIES:Children's Activities
ATTACH;FMTTYPE=image/jpeg:https://www.hutchpl.org/wp-content/uploads/2025/02/Toddler_Storytime-2-1440x650-2-1080x488-1.jpg
END:VEVENT
BEGIN:VEVENT
DTSTART;TZID=America/Chicago:20251104T110000
DTEND;TZID=America/Chicago:20251104T113000
DTSTAMP:20260419T090612
CREATED:20250916T135444Z
LAST-MODIFIED:20251104T203834Z
UID:10001115-1762254000-1762255800@www.hutchpl.org
SUMMARY:Baby Time
DESCRIPTION:Recommended age: Birth – 18 months\nA storytime at HPL (for babies\, toddlers\, or preschoolers) includes books\, songs\, rhymes\, music\, and more– chosen for the appropriate age!\nYou and your child will create a strong bond\, build lasting memories\, and learn through play with their peers!
URL:https://www.hutchpl.org/event/baby-time-3/2025-11-04/
LOCATION:Hutchinson Public Library\, 901 N Main St\, Hutchinson\, KS\, 67501\, United States
CATEGORIES:Children's Activities
ATTACH;FMTTYPE=image/png:https://www.hutchpl.org/wp-content/uploads/2025/02/Baby-time-1200x650-2-1080x488-1.png
GEO:38.062854;-97.931871
X-APPLE-STRUCTURED-LOCATION;VALUE=URI;X-ADDRESS=Hutchinson Public Library 901 N Main St Hutchinson KS 67501 United States;X-APPLE-RADIUS=500;X-TITLE=901 N Main St:geo:-97.931871,38.062854
END:VEVENT
BEGIN:VEVENT
DTSTART;TZID=America/Chicago:20251105T103000
DTEND;TZID=America/Chicago:20251105T110000
DTSTAMP:20260419T090612
CREATED:20250916T141941Z
LAST-MODIFIED:20250916T141941Z
UID:10001223-1762338600-1762340400@www.hutchpl.org
SUMMARY:Preschool Storytime
DESCRIPTION:Recommended age: 3-5 with a caregiver\nA storytime at HPL (for babies\, toddlers\, or preschoolers) includes books\, songs\, rhymes\, music\, and more– chosen for the appropriate age!\nYou and your child will create a strong bond\, build lasting memories\, and learn through play with their peers!
URL:https://www.hutchpl.org/event/preschool-storytime-3/2025-11-05/
LOCATION:KS
CATEGORIES:Children's Activities
ATTACH;FMTTYPE=image/png:https://www.hutchpl.org/wp-content/uploads/2025/02/preschool-time-3.png
END:VEVENT
BEGIN:VEVENT
DTSTART;TZID=America/Chicago:20251106T103000
DTEND;TZID=America/Chicago:20251106T110000
DTSTAMP:20260419T090612
CREATED:20250916T142111Z
LAST-MODIFIED:20250916T142111Z
UID:10001237-1762425000-1762426800@www.hutchpl.org
SUMMARY:Bilingual Storytime
DESCRIPTION:Enjoy stories\, songs and rhymes in Spanish and English!\nRecommended age: 3-5 Years Old
URL:https://www.hutchpl.org/event/bilingual-storytime-3/2025-11-06/
LOCATION:KS
CATEGORIES:Children's Activities
ATTACH;FMTTYPE=image/png:https://www.hutchpl.org/wp-content/uploads/2025/02/bilingual-storytime-1.png
END:VEVENT
BEGIN:VEVENT
DTSTART;TZID=America/Chicago:20251107T103000
DTEND;TZID=America/Chicago:20251107T110000
DTSTAMP:20260419T090612
CREATED:20250916T142358Z
LAST-MODIFIED:20251013T145555Z
UID:10001252-1762511400-1762513200@www.hutchpl.org
SUMMARY:Giggles & Glue
DESCRIPTION:Explore your child’s creativity with some pre-k craft projects!\nRecommended age: 3-5 Years Old
URL:https://www.hutchpl.org/event/giggles-glue-2/2025-11-07/
LOCATION:Hutchinson Public Library\, 901 N Main St\, Hutchinson\, KS\, 67501\, United States
CATEGORIES:Children's Activities
ATTACH;FMTTYPE=image/png:https://www.hutchpl.org/wp-content/uploads/2025/02/giggles-and-glue.png
GEO:38.062854;-97.931871
X-APPLE-STRUCTURED-LOCATION;VALUE=URI;X-ADDRESS=Hutchinson Public Library 901 N Main St Hutchinson KS 67501 United States;X-APPLE-RADIUS=500;X-TITLE=901 N Main St:geo:-97.931871,38.062854
END:VEVENT
BEGIN:VEVENT
DTSTART;TZID=UTC:20251108T100000
DTEND;TZID=UTC:20251108T120000
DTSTAMP:20260419T090612
CREATED:20251013T145029Z
LAST-MODIFIED:20251013T145029Z
UID:10001462-1762596000-1762603200@www.hutchpl.org
SUMMARY:Children’s Chess Club
DESCRIPTION:Come to the Youth Services area and play and learn strategy from a chess instructor.
URL:https://www.hutchpl.org/event/childrens-chess-club-10/2025-11-08/
LOCATION:Hutchinson Public Library\, 901 N Main St\, Hutchinson\, KS\, 67501\, United States
CATEGORIES:Children's Activities
ATTACH;FMTTYPE=image/png:https://www.hutchpl.org/wp-content/uploads/2025/01/508-5084481_previous-chess-1-BYGaS4.tmp_.png
GEO:38.062854;-97.931871
X-APPLE-STRUCTURED-LOCATION;VALUE=URI;X-ADDRESS=Hutchinson Public Library 901 N Main St Hutchinson KS 67501 United States;X-APPLE-RADIUS=500;X-TITLE=901 N Main St:geo:-97.931871,38.062854
END:VEVENT
BEGIN:VEVENT
DTSTART;TZID=America/Chicago:20251110T103000
DTEND;TZID=America/Chicago:20251110T110000
DTSTAMP:20260419T090612
CREATED:20250916T135725Z
LAST-MODIFIED:20251104T203915Z
UID:10001144-1762770600-1762772400@www.hutchpl.org
SUMMARY:Toddler Time
DESCRIPTION:Recommended age: 18 months – 2 years\nA storytime at HPL (for babies\, toddlers\, or preschoolers) includes books\, songs\, rhymes\, music\, and more– chosen for the appropriate age!\nYou and your child will create a strong bond\, build lasting memories\, and learn through play with their peers!
URL:https://www.hutchpl.org/event/toddler-time-3/2025-11-10/
LOCATION:KS
CATEGORIES:Children's Activities
ATTACH;FMTTYPE=image/jpeg:https://www.hutchpl.org/wp-content/uploads/2025/02/Toddler_Storytime-2-1440x650-2-1080x488-1.jpg
END:VEVENT
BEGIN:VEVENT
DTSTART;TZID=America/Chicago:20251110T110000
DTEND;TZID=America/Chicago:20251110T113000
DTSTAMP:20260419T090612
CREATED:20250916T135444Z
LAST-MODIFIED:20251104T203834Z
UID:10001116-1762772400-1762774200@www.hutchpl.org
SUMMARY:Baby Time
DESCRIPTION:Recommended age: Birth – 18 months\nA storytime at HPL (for babies\, toddlers\, or preschoolers) includes books\, songs\, rhymes\, music\, and more– chosen for the appropriate age!\nYou and your child will create a strong bond\, build lasting memories\, and learn through play with their peers!
URL:https://www.hutchpl.org/event/baby-time-3/2025-11-10/
LOCATION:Hutchinson Public Library\, 901 N Main St\, Hutchinson\, KS\, 67501\, United States
CATEGORIES:Children's Activities
ATTACH;FMTTYPE=image/png:https://www.hutchpl.org/wp-content/uploads/2025/02/Baby-time-1200x650-2-1080x488-1.png
GEO:38.062854;-97.931871
X-APPLE-STRUCTURED-LOCATION;VALUE=URI;X-ADDRESS=Hutchinson Public Library 901 N Main St Hutchinson KS 67501 United States;X-APPLE-RADIUS=500;X-TITLE=901 N Main St:geo:-97.931871,38.062854
END:VEVENT
BEGIN:VEVENT
DTSTART;TZID=America/Chicago:20251112T103000
DTEND;TZID=America/Chicago:20251112T110000
DTSTAMP:20260419T090612
CREATED:20250916T141941Z
LAST-MODIFIED:20250916T141941Z
UID:10001224-1762943400-1762945200@www.hutchpl.org
SUMMARY:Preschool Storytime
DESCRIPTION:Recommended age: 3-5 with a caregiver\nA storytime at HPL (for babies\, toddlers\, or preschoolers) includes books\, songs\, rhymes\, music\, and more– chosen for the appropriate age!\nYou and your child will create a strong bond\, build lasting memories\, and learn through play with their peers!
URL:https://www.hutchpl.org/event/preschool-storytime-3/2025-11-12/
LOCATION:KS
CATEGORIES:Children's Activities
ATTACH;FMTTYPE=image/png:https://www.hutchpl.org/wp-content/uploads/2025/02/preschool-time-3.png
END:VEVENT
END:VCALENDAR