BEGIN:VCALENDAR
VERSION:2.0
PRODID:-//Hutchinson Public Library - ECPv6.15.17.1//NONSGML v1.0//EN
CALSCALE:GREGORIAN
METHOD:PUBLISH
X-ORIGINAL-URL:https://www.hutchpl.org
X-WR-CALDESC:Events for Hutchinson Public Library
REFRESH-INTERVAL;VALUE=DURATION:PT1H
X-Robots-Tag:noindex
X-PUBLISHED-TTL:PT1H
BEGIN:VTIMEZONE
TZID:America/Chicago
BEGIN:DAYLIGHT
TZOFFSETFROM:-0600
TZOFFSETTO:-0500
TZNAME:CDT
DTSTART:20250309T080000
END:DAYLIGHT
BEGIN:STANDARD
TZOFFSETFROM:-0500
TZOFFSETTO:-0600
TZNAME:CST
DTSTART:20251102T070000
END:STANDARD
BEGIN:DAYLIGHT
TZOFFSETFROM:-0600
TZOFFSETTO:-0500
TZNAME:CDT
DTSTART:20260308T080000
END:DAYLIGHT
BEGIN:STANDARD
TZOFFSETFROM:-0500
TZOFFSETTO:-0600
TZNAME:CST
DTSTART:20261101T070000
END:STANDARD
BEGIN:DAYLIGHT
TZOFFSETFROM:-0600
TZOFFSETTO:-0500
TZNAME:CDT
DTSTART:20270314T080000
END:DAYLIGHT
BEGIN:STANDARD
TZOFFSETFROM:-0500
TZOFFSETTO:-0600
TZNAME:CST
DTSTART:20271107T070000
END:STANDARD
END:VTIMEZONE
BEGIN:VEVENT
DTSTART;TZID=America/Chicago:20260331T103000
DTEND;TZID=America/Chicago:20260331T110000
DTSTAMP:20260421T165719
CREATED:20260102T221152Z
LAST-MODIFIED:20260102T221152Z
UID:10001772-1774953000-1774954800@www.hutchpl.org
SUMMARY:Toddler Time
DESCRIPTION:Recommended age: 18 months – 2 years\nA storytime at HPL (for babies\, toddlers\, or preschoolers) includes books\, songs\, rhymes\, music\, and more– chosen for the appropriate age!\nYou and your child will create a strong bond\, build lasting memories\, and learn through play with their peers!
URL:https://www.hutchpl.org/event/toddler-time-4/2026-03-31/
CATEGORIES:Children's Activities
ATTACH;FMTTYPE=image/jpeg:https://www.hutchpl.org/wp-content/uploads/2025/02/Toddler_Storytime-2-1440x650-2-1080x488-1.jpg
END:VEVENT
BEGIN:VEVENT
DTSTART;TZID=America/Chicago:20260331T110000
DTEND;TZID=America/Chicago:20260331T113000
DTSTAMP:20260421T165719
CREATED:20260102T221622Z
LAST-MODIFIED:20260102T221622Z
UID:10001855-1774954800-1774956600@www.hutchpl.org
SUMMARY:Baby Time
DESCRIPTION:Recommended age: Birth – 18 months\nA storytime at HPL (for babies\, toddlers\, or preschoolers) includes books\, songs\, rhymes\, music\, and more– chosen for the appropriate age!\nYou and your child will create a strong bond\, build lasting memories\, and learn through play with their peers!
URL:https://www.hutchpl.org/event/baby-time-4/2026-03-31/
LOCATION:Hutchinson Public Library\, 901 N Main St\, Hutchinson\, KS\, 67501\, United States
CATEGORIES:Children's Activities
ATTACH;FMTTYPE=image/png:https://www.hutchpl.org/wp-content/uploads/2025/02/Baby-time-1200x650-2-1080x488-1.png
GEO:38.062854;-97.931871
X-APPLE-STRUCTURED-LOCATION;VALUE=URI;X-ADDRESS=Hutchinson Public Library 901 N Main St Hutchinson KS 67501 United States;X-APPLE-RADIUS=500;X-TITLE=901 N Main St:geo:-97.931871,38.062854
END:VEVENT
END:VCALENDAR