BEGIN:VCALENDAR
VERSION:2.0
PRODID:-//Hutchinson Public Library - ECPv6.15.17.1//NONSGML v1.0//EN
CALSCALE:GREGORIAN
METHOD:PUBLISH
X-ORIGINAL-URL:https://www.hutchpl.org
X-WR-CALDESC:Events for Hutchinson Public Library
REFRESH-INTERVAL;VALUE=DURATION:PT1H
X-Robots-Tag:noindex
X-PUBLISHED-TTL:PT1H
BEGIN:VTIMEZONE
TZID:America/Chicago
BEGIN:DAYLIGHT
TZOFFSETFROM:-0600
TZOFFSETTO:-0500
TZNAME:CDT
DTSTART:20240310T080000
END:DAYLIGHT
BEGIN:STANDARD
TZOFFSETFROM:-0500
TZOFFSETTO:-0600
TZNAME:CST
DTSTART:20241103T070000
END:STANDARD
BEGIN:DAYLIGHT
TZOFFSETFROM:-0600
TZOFFSETTO:-0500
TZNAME:CDT
DTSTART:20250309T080000
END:DAYLIGHT
BEGIN:STANDARD
TZOFFSETFROM:-0500
TZOFFSETTO:-0600
TZNAME:CST
DTSTART:20251102T070000
END:STANDARD
BEGIN:DAYLIGHT
TZOFFSETFROM:-0600
TZOFFSETTO:-0500
TZNAME:CDT
DTSTART:20260308T080000
END:DAYLIGHT
BEGIN:STANDARD
TZOFFSETFROM:-0500
TZOFFSETTO:-0600
TZNAME:CST
DTSTART:20261101T070000
END:STANDARD
END:VTIMEZONE
BEGIN:VTIMEZONE
TZID:UTC
BEGIN:STANDARD
TZOFFSETFROM:+0000
TZOFFSETTO:+0000
TZNAME:UTC
DTSTART:20240101T000000
END:STANDARD
END:VTIMEZONE
BEGIN:VEVENT
DTSTART;TZID=America/Chicago:20250612T103000
DTEND;TZID=America/Chicago:20250612T110000
DTSTAMP:20260425T105356
CREATED:20250529T170136Z
LAST-MODIFIED:20250529T170136Z
UID:10000934-1749724200-1749726000@www.hutchpl.org
SUMMARY:Youth Storytimes
DESCRIPTION:Children’s Activity Room \nRecommended Age: all ages!\nA storytime at HPL includes books\, songs\, rhymes\, music\, and more– chosen for the appropriate age!\nYou and your child will create a strong bond\, build lasting memories\, and learn through play with their peers!
URL:https://www.hutchpl.org/event/youth-storytimes/2025-06-12/
LOCATION:Hutchinson Public Library\, 901 N Main St\, Hutchinson\, KS\, 67501\, United States
CATEGORIES:Children's Activities,Family
ATTACH;FMTTYPE=image/png:https://www.hutchpl.org/wp-content/uploads/2025/02/preschool-time-3.png
GEO:38.062854;-97.931871
X-APPLE-STRUCTURED-LOCATION;VALUE=URI;X-ADDRESS=Hutchinson Public Library 901 N Main St Hutchinson KS 67501 United States;X-APPLE-RADIUS=500;X-TITLE=901 N Main St:geo:-97.931871,38.062854
END:VEVENT
BEGIN:VEVENT
DTSTART;TZID=America/Chicago:20250612T143000
DTEND;TZID=America/Chicago:20250612T163000
DTSTAMP:20260425T105356
CREATED:20250602T161310Z
LAST-MODIFIED:20250602T161310Z
UID:10000951-1749738600-1749745800@www.hutchpl.org
SUMMARY:Table Game Day
DESCRIPTION:Children’s Activity Room  \nAge: 1st-6th graders  \nWant to play fun games with others? This event is come and go\, with a snack provided.
URL:https://www.hutchpl.org/event/table-game-day/2025-06-12/
LOCATION:Hutchinson Public Library\, 901 N Main St\, Hutchinson\, KS\, 67501\, United States
CATEGORIES:Children's Activities,Family
ATTACH;FMTTYPE=image/png:https://www.hutchpl.org/wp-content/uploads/2025/05/Blue-Colorful-Illustration-Science-Experiment-Poster-.png
GEO:38.062854;-97.931871
X-APPLE-STRUCTURED-LOCATION;VALUE=URI;X-ADDRESS=Hutchinson Public Library 901 N Main St Hutchinson KS 67501 United States;X-APPLE-RADIUS=500;X-TITLE=901 N Main St:geo:-97.931871,38.062854
END:VEVENT
BEGIN:VEVENT
DTSTART;TZID=UTC:20250612T180000
DTEND;TZID=UTC:20250612T190000
DTSTAMP:20260425T105356
CREATED:20250108T224911Z
LAST-MODIFIED:20250108T224911Z
UID:10000062-1749751200-1749754800@www.hutchpl.org
SUMMARY:Read to Rover
DESCRIPTION:Studies show that children gain confidence when reading to dogs. Whether  your child is a pre-reader\, just learning to read\, or is a proficient reader\, they will enjoy this fun program. When readers get three punches on their punch card\, they get a free book! This program is in partnership with Hutchinson Kennel Club Therapy Dogs. \nNo registration required.
URL:https://www.hutchpl.org/event/read-to-rover-6/
LOCATION:Hutchinson Public Library\, 901 N Main St\, Hutchinson\, KS\, 67501\, United States
CATEGORIES:Children's Activities
ATTACH;FMTTYPE=image/png:https://www.hutchpl.org/wp-content/uploads/2025/01/Read-to-Rover-1536x864-1-fcUJQX.tmp_.png
GEO:38.062854;-97.931871
X-APPLE-STRUCTURED-LOCATION;VALUE=URI;X-ADDRESS=Hutchinson Public Library 901 N Main St Hutchinson KS 67501 United States;X-APPLE-RADIUS=500;X-TITLE=901 N Main St:geo:-97.931871,38.062854
END:VEVENT
END:VCALENDAR