BEGIN:VCALENDAR
VERSION:2.0
PRODID:-//Hutchinson Public Library - ECPv6.15.17.1//NONSGML v1.0//EN
CALSCALE:GREGORIAN
METHOD:PUBLISH
X-WR-CALNAME:Hutchinson Public Library
X-ORIGINAL-URL:https://www.hutchpl.org
X-WR-CALDESC:Events for Hutchinson Public Library
REFRESH-INTERVAL;VALUE=DURATION:PT1H
X-Robots-Tag:noindex
X-PUBLISHED-TTL:PT1H
BEGIN:VTIMEZONE
TZID:UTC
BEGIN:STANDARD
TZOFFSETFROM:+0000
TZOFFSETTO:+0000
TZNAME:UTC
DTSTART:20250101T000000
END:STANDARD
END:VTIMEZONE
BEGIN:VEVENT
DTSTART;TZID=UTC:20260606T103000
DTEND;TZID=UTC:20260606T120000
DTSTAMP:20260422T062049
CREATED:20250108T225428Z
LAST-MODIFIED:20250602T161546Z
UID:10000116-1780741800-1780747200@www.hutchpl.org
SUMMARY:LEGOS® at the Library
DESCRIPTION:Learn about creative ways to build and explore your own ingenuity and imagination\, and socialize with other LEGO fans! Check out our collection of LEGO books as well.\nThis is a free program\, does not require registration\, and is suitable for children & families ages 3 – 12 (younger children should be carefully monitored because of choking hazards). Building prompts and challenges may be provided by library staff\, but are not mandatory.  
URL:https://www.hutchpl.org/event/legos-at-the-library-17/
LOCATION:Hutchinson Public Library\, 901 N Main St\, Hutchinson\, KS\, 67501\, United States
CATEGORIES:Children's Activities
ATTACH;FMTTYPE=image/jpeg:https://www.hutchpl.org/wp-content/uploads/2025/01/Legos-at-the-Library-dkMBW0.tmp_.jpg
GEO:38.062854;-97.931871
X-APPLE-STRUCTURED-LOCATION;VALUE=URI;X-ADDRESS=Hutchinson Public Library 901 N Main St Hutchinson KS 67501 United States;X-APPLE-RADIUS=500;X-TITLE=901 N Main St:geo:-97.931871,38.062854
END:VEVENT
BEGIN:VEVENT
DTSTART;TZID=UTC:20260611T180000
DTEND;TZID=UTC:20260611T190000
DTSTAMP:20260422T062049
CREATED:20260212T225720Z
LAST-MODIFIED:20260218T001136Z
UID:10002027-1781200800-1781204400@www.hutchpl.org
SUMMARY:Read to Rover
DESCRIPTION:Studies show that children gain confidence when reading to dogs. Whether  your child is a pre-reader\, just learning to read\, or is a proficient reader\, they will enjoy this fun program. When readers get three punches on their punch card\, they get a free book! This program is in partnership with Hutchinson Kennel Club Therapy Dogs.\nNo registration required.
URL:https://www.hutchpl.org/event/read-to-rover-11/2026-06-11/
LOCATION:Hutchinson Public Library\, 901 N Main St\, Hutchinson\, KS\, 67501\, United States
CATEGORIES:Children's Activities
ATTACH;FMTTYPE=image/png:https://www.hutchpl.org/wp-content/uploads/2025/01/Read-to-Rover-1536x864-1-fcUJQX.tmp_.png
GEO:38.062854;-97.931871
X-APPLE-STRUCTURED-LOCATION;VALUE=URI;X-ADDRESS=Hutchinson Public Library 901 N Main St Hutchinson KS 67501 United States;X-APPLE-RADIUS=500;X-TITLE=901 N Main St:geo:-97.931871,38.062854
END:VEVENT
BEGIN:VEVENT
DTSTART;TZID=UTC:20260613T100000
DTEND;TZID=UTC:20260613T120000
DTSTAMP:20260422T062049
CREATED:20251013T145029Z
LAST-MODIFIED:20251013T145029Z
UID:10001469-1781344800-1781352000@www.hutchpl.org
SUMMARY:Children’s Chess Club
DESCRIPTION:Come to the Youth Services area and play and learn strategy from a chess instructor.
URL:https://www.hutchpl.org/event/childrens-chess-club-10/2026-06-13/
LOCATION:Hutchinson Public Library\, 901 N Main St\, Hutchinson\, KS\, 67501\, United States
CATEGORIES:Children's Activities
ATTACH;FMTTYPE=image/png:https://www.hutchpl.org/wp-content/uploads/2025/01/508-5084481_previous-chess-1-BYGaS4.tmp_.png
GEO:38.062854;-97.931871
X-APPLE-STRUCTURED-LOCATION;VALUE=URI;X-ADDRESS=Hutchinson Public Library 901 N Main St Hutchinson KS 67501 United States;X-APPLE-RADIUS=500;X-TITLE=901 N Main St:geo:-97.931871,38.062854
END:VEVENT
END:VCALENDAR