BEGIN:VCALENDAR
VERSION:2.0
PRODID:-//Hutchinson Public Library - ECPv6.15.17.1//NONSGML v1.0//EN
CALSCALE:GREGORIAN
METHOD:PUBLISH
X-WR-CALNAME:Hutchinson Public Library
X-ORIGINAL-URL:https://www.hutchpl.org
X-WR-CALDESC:Events for Hutchinson Public Library
REFRESH-INTERVAL;VALUE=DURATION:PT1H
X-Robots-Tag:noindex
X-PUBLISHED-TTL:PT1H
BEGIN:VTIMEZONE
TZID:America/Chicago
BEGIN:DAYLIGHT
TZOFFSETFROM:-0600
TZOFFSETTO:-0500
TZNAME:CDT
DTSTART:20250309T080000
END:DAYLIGHT
BEGIN:STANDARD
TZOFFSETFROM:-0500
TZOFFSETTO:-0600
TZNAME:CST
DTSTART:20251102T070000
END:STANDARD
BEGIN:DAYLIGHT
TZOFFSETFROM:-0600
TZOFFSETTO:-0500
TZNAME:CDT
DTSTART:20260308T080000
END:DAYLIGHT
BEGIN:STANDARD
TZOFFSETFROM:-0500
TZOFFSETTO:-0600
TZNAME:CST
DTSTART:20261101T070000
END:STANDARD
BEGIN:DAYLIGHT
TZOFFSETFROM:-0600
TZOFFSETTO:-0500
TZNAME:CDT
DTSTART:20270314T080000
END:DAYLIGHT
BEGIN:STANDARD
TZOFFSETFROM:-0500
TZOFFSETTO:-0600
TZNAME:CST
DTSTART:20271107T070000
END:STANDARD
END:VTIMEZONE
BEGIN:VTIMEZONE
TZID:UTC
BEGIN:STANDARD
TZOFFSETFROM:+0000
TZOFFSETTO:+0000
TZNAME:UTC
DTSTART:20250101T000000
END:STANDARD
END:VTIMEZONE
BEGIN:VEVENT
DTSTART;TZID=America/Chicago:20260616T180000
DTEND;TZID=America/Chicago:20260616T190000
DTSTAMP:20260423T155952
CREATED:20251027T132425Z
LAST-MODIFIED:20260306T191159Z
UID:10001576-1781632800-1781636400@www.hutchpl.org
SUMMARY:Talk Together Tuesday
DESCRIPTION:A multi-lingual social event where you can practice any language you are learning in a real-world conversational environment.  \nThis is a friendly place to meet neighbors\, share stories\, and celebrate languages from around the world.  Enjoy light refreshments and group activities. it’s a lively mix if language\, laughter\, and learning!  \nHave questions? Reach out to Adult Education and Literacy Services by calling us at 620-663-5441 or emailing adulteducation@hutchpl.org
URL:https://www.hutchpl.org/event/talk-together-tuesday/2026-06-16/
LOCATION:KS
CATEGORIES:Adults
ATTACH;FMTTYPE=image/png:https://www.hutchpl.org/wp-content/uploads/2025/10/TTT-New-Design-Ideas-Instagram-Post-1.png
END:VEVENT
BEGIN:VEVENT
DTSTART;TZID=UTC:20260617T180000
DTEND;TZID=UTC:20260617T190000
DTSTAMP:20260423T155952
CREATED:20250108T225346Z
LAST-MODIFIED:20260306T192546Z
UID:10002115-1781719200-1781722800@www.hutchpl.org
SUMMARY:Salt City Readers
DESCRIPTION:Let’s talk about books! We explore a variety of fiction genres each month!\nSalt City Readers meets every third Wednesday each month.\nCheck out the books at the Public Service Desk or on Cloud Library!  
URL:https://www.hutchpl.org/event/salt-city-readers-16/2026-06-17/
LOCATION:Hutchinson Public Library\, 901 N Main St\, Hutchinson\, KS\, 67501\, United States
CATEGORIES:Adults,Book Discussion
ATTACH;FMTTYPE=image/png:https://www.hutchpl.org/wp-content/uploads/2025/01/Salt-City-Readers-Instagram-Post-vmKnTx.tmp_.png
GEO:38.062854;-97.931871
X-APPLE-STRUCTURED-LOCATION;VALUE=URI;X-ADDRESS=Hutchinson Public Library 901 N Main St Hutchinson KS 67501 United States;X-APPLE-RADIUS=500;X-TITLE=901 N Main St:geo:-97.931871,38.062854
END:VEVENT
END:VCALENDAR