BEGIN:VCALENDAR
VERSION:2.0
PRODID:-//Hutchinson Public Library - ECPv6.15.17.1//NONSGML v1.0//EN
CALSCALE:GREGORIAN
METHOD:PUBLISH
X-ORIGINAL-URL:https://www.hutchpl.org
X-WR-CALDESC:Events for Hutchinson Public Library
REFRESH-INTERVAL;VALUE=DURATION:PT1H
X-Robots-Tag:noindex
X-PUBLISHED-TTL:PT1H
BEGIN:VTIMEZONE
TZID:UTC
BEGIN:STANDARD
TZOFFSETFROM:+0000
TZOFFSETTO:+0000
TZNAME:UTC
DTSTART:20250101T000000
END:STANDARD
END:VTIMEZONE
BEGIN:VTIMEZONE
TZID:America/Chicago
BEGIN:DAYLIGHT
TZOFFSETFROM:-0600
TZOFFSETTO:-0500
TZNAME:CDT
DTSTART:20250309T080000
END:DAYLIGHT
BEGIN:STANDARD
TZOFFSETFROM:-0500
TZOFFSETTO:-0600
TZNAME:CST
DTSTART:20251102T070000
END:STANDARD
BEGIN:DAYLIGHT
TZOFFSETFROM:-0600
TZOFFSETTO:-0500
TZNAME:CDT
DTSTART:20260308T080000
END:DAYLIGHT
BEGIN:STANDARD
TZOFFSETFROM:-0500
TZOFFSETTO:-0600
TZNAME:CST
DTSTART:20261101T070000
END:STANDARD
BEGIN:DAYLIGHT
TZOFFSETFROM:-0600
TZOFFSETTO:-0500
TZNAME:CDT
DTSTART:20270314T080000
END:DAYLIGHT
BEGIN:STANDARD
TZOFFSETFROM:-0500
TZOFFSETTO:-0600
TZNAME:CST
DTSTART:20271107T070000
END:STANDARD
END:VTIMEZONE
BEGIN:VEVENT
DTSTART;TZID=UTC:20260224T180000
DTEND;TZID=UTC:20260224T190000
DTSTAMP:20260421T105728
CREATED:20250108T225237Z
LAST-MODIFIED:20260130T172647Z
UID:10001653-1771956000-1771959600@www.hutchpl.org
SUMMARY:Mystery Mavens
DESCRIPTION:6:00 pm\nSun Room\nMystery Mavens meet on the fourth Tuesday of every month. If you are interested in obtaining a copy of this month’s book and participating in a discussion\, please contact adult.program.coordinator@hutchpl.org or call 620-663-5441 ext. 123
URL:https://www.hutchpl.org/event/mystery-mavens-11/2026-02-24/
LOCATION:Hutchinson Public Library\, 901 N Main St\, Hutchinson\, KS\, 67501\, United States
CATEGORIES:Adults,Book Discussion
ATTACH;FMTTYPE=image/png:https://www.hutchpl.org/wp-content/uploads/2025/01/Mystery1-11-tS8iqf.tmp_.png
GEO:38.062854;-97.931871
X-APPLE-STRUCTURED-LOCATION;VALUE=URI;X-ADDRESS=Hutchinson Public Library 901 N Main St Hutchinson KS 67501 United States;X-APPLE-RADIUS=500;X-TITLE=901 N Main St:geo:-97.931871,38.062854
END:VEVENT
BEGIN:VEVENT
DTSTART;TZID=America/Chicago:20260226T180000
DTEND;TZID=America/Chicago:20260226T190000
DTSTAMP:20260421T105728
CREATED:20260206T220236Z
LAST-MODIFIED:20260206T221049Z
UID:10002014-1772128800-1772132400@www.hutchpl.org
SUMMARY:How Long 'Til Black Future Month? By N.K. Jemisin Book Discussion
DESCRIPTION:Join us at Sandhills Brewing to talk about this imaginative collection of short stories with themes of destruction\, rebirth\, and redemption that sharply examine modern life through the lens of science fiction.  \nSpirits haunt the flooded streets of New Orleans in the aftermath of Hurricane Katrina. In a parallel universe\, a utopian society watches our world\, trying to learn from our mistakes. A black mother in the Jim Crow South must save her daughter from a fey offering impossible promises. And in the Hugo award-nominated short story “The City Born Great\,” a young street kid fights to give birth to an old metropolis’s soul. \nN. K. Jemisin’s short stories will get you thinking about different perspectives and what-ifs. This is sure to be a lively discussion!  \n  \n 
URL:https://www.hutchpl.org/event/how-long-til-black-future-month-by-n-k-jemisin-book-discussion/
LOCATION:Sandhills Brewing\, 111 West 2nd Ave.\, Hutchinson\, KS\, 67501\, United States
CATEGORIES:Adults,Book Discussion
ATTACH;FMTTYPE=image/png:https://www.hutchpl.org/wp-content/uploads/2026/02/Strange-New-Words-2025.png
END:VEVENT
BEGIN:VEVENT
DTSTART;TZID=America/Chicago:20260226T180000
DTEND;TZID=America/Chicago:20260226T193000
DTSTAMP:20260421T105728
CREATED:20260202T172828Z
LAST-MODIFIED:20260202T172828Z
UID:10002007-1772128800-1772134200@www.hutchpl.org
SUMMARY:Craft-Cutter Workshop
DESCRIPTION:This workshop covers basic instruction for our craft-cutter\, the Cricut Maker 3. You will design and create a vinyl decal\, and learn how to make stickers\, fabric-transfers\, and more.\n\n\n\n\n\n\n\nYou will need an email address to register for your Cricut ID.\nThere is no cost to attend.\nBasic computer and reading skills are required.\nNo previous experience is required.\nSeats are limited\, but this workshop will be offered regularly. If you can’t attend a scheduled workshop\, please contact us to discuss alternatives.\nThe Makerspace will be closed to other activities during this workshop.\n\n\n\n\n\n\nIMPORTANT – PLEASE READ:\n\nYoung children must be able to understand written and verbal instructions unaided\, as well as use a desktop computer.\nEach individual attending will need a current Hutchinson Public Library Card. Student library cards are not valid for Makerspace workshops.
URL:https://www.hutchpl.org/event/craft-cutter-workshop-7/
LOCATION:Hutchinson Public Library – Makerspace\, 901 N Main St\, Hutchinson\, KS\, 67501\, United States
CATEGORIES:Adults,For Everyone,Makerspace,Young Adult
ATTACH;FMTTYPE=image/jpeg:https://www.hutchpl.org/wp-content/uploads/2025/11/Craft-Cutter-Workshop-11-10-25a-1.jpg
ORGANIZER;CN="Makerspace":MAILTO:makerspace@hutchpl.org
END:VEVENT
BEGIN:VEVENT
DTSTART;TZID=America/Chicago:20260227T150000
DTEND;TZID=America/Chicago:20260227T170000
DTSTAMP:20260421T105728
CREATED:20260202T173246Z
LAST-MODIFIED:20260202T173246Z
UID:10002008-1772204400-1772211600@www.hutchpl.org
SUMMARY:Creative Writing Corner
DESCRIPTION:The Creative Writing Corner is a space for anyone to sit down and work on their own stories. Whether you want to brainstorm ideas with other patrons\, need help editing your work\, or just want to sit in the corner and write away; this is the corner for you! Join us in the Sunroom on the 2nd floor.
URL:https://www.hutchpl.org/event/creative-writing-corner-24/
LOCATION:KS
CATEGORIES:Adults,Makerspace,Young Adult
ATTACH;FMTTYPE=image/png:https://www.hutchpl.org/wp-content/uploads/2025/01/CWC-Logo-1-VV5gNw.tmp_.png
END:VEVENT
BEGIN:VEVENT
DTSTART;TZID=America/Chicago:20260228T103000
DTEND;TZID=America/Chicago:20260228T120000
DTSTAMP:20260421T105728
CREATED:20260131T234133Z
LAST-MODIFIED:20260131T234133Z
UID:10002003-1772274600-1772280000@www.hutchpl.org
SUMMARY:3D Printing Certification
DESCRIPTION:We will soon require training to use our 3D printing services. This introductory workshop covers basic information to perform 3D printing projects. Completing it gives you access to use our 3D printing equipment\, and you will make a small 3D print at no cost. \n\nThere is no cost to attend.\nBasic computer and reading skills are required.\nNo previous experience is required.\nSeats are limited\, but this workshop will be offered regularly. If you can’t attend a scheduled workshop\, please contact us to discuss alternatives.\nThe Makerspace will be closed to other activities during this workshop.\nYou may need to return later to pick up your completed 3D print\n\n\n\n\n\n\nIMPORTANT – PLEASE READ:\n\nYoung children must be able to understand written and verbal instructions unaided\, as well as use a desktop computer.\nEach individual attending will need a current Hutchinson Public Library Card. Student library cards are not valid for Makerspace workshops.
URL:https://www.hutchpl.org/event/3d-printing-certification-71/
LOCATION:Hutchinson Public Library – Makerspace\, 901 N Main St\, Hutchinson\, KS\, 67501\, United States
CATEGORIES:Adults,For Everyone,Makerspace,Young Adult
ATTACH;FMTTYPE=image/jpeg:https://www.hutchpl.org/wp-content/uploads/2025/01/3D-Printing-workshop-3-un3z0D.tmp_.jpg
ORGANIZER;CN="Makerspace":MAILTO:makerspace@hutchpl.org
END:VEVENT
BEGIN:VEVENT
DTSTART;TZID=America/Chicago:20260228T140000
DTEND;TZID=America/Chicago:20260228T180000
DTSTAMP:20260421T105728
CREATED:20260123T164655Z
LAST-MODIFIED:20260123T164655Z
UID:10001939-1772287200-1772301600@www.hutchpl.org
SUMMARY:Tech-Share Meetup
DESCRIPTION:Tech-Share MeetupGot questions about your phone\, tablet\, laptop\, or other tech gadgets? Bring them to the Tech-Share Meetup! Whether you’re troubleshooting an issue\, learning a new app\, or just curious about how something works\, we’re here to help. This friendly\, drop-in session is a great place to get one-on-one assistance\, share tips\, and learn together in a supportive environment. All ages and skill levels are welcome—just bring your questions and your device!
URL:https://www.hutchpl.org/event/tech-share-meetup-4/2026-02-28/
LOCATION:Hutchinson Public Library\, 901 N Main St\, Hutchinson\, KS\, 67501\, United States
CATEGORIES:Adults
ATTACH;FMTTYPE=image/png:https://www.hutchpl.org/wp-content/uploads/2025/04/Tech-Share-Newsletter-Graphic-1.png
GEO:38.062854;-97.931871
X-APPLE-STRUCTURED-LOCATION;VALUE=URI;X-ADDRESS=Hutchinson Public Library 901 N Main St Hutchinson KS 67501 United States;X-APPLE-RADIUS=500;X-TITLE=901 N Main St:geo:-97.931871,38.062854
END:VEVENT
END:VCALENDAR