BEGIN:VCALENDAR
VERSION:2.0
PRODID:-//Hutchinson Public Library - ECPv6.15.17.1//NONSGML v1.0//EN
CALSCALE:GREGORIAN
METHOD:PUBLISH
X-ORIGINAL-URL:https://www.hutchpl.org
X-WR-CALDESC:Events for Hutchinson Public Library
REFRESH-INTERVAL;VALUE=DURATION:PT1H
X-Robots-Tag:noindex
X-PUBLISHED-TTL:PT1H
BEGIN:VTIMEZONE
TZID:America/Chicago
BEGIN:DAYLIGHT
TZOFFSETFROM:-0600
TZOFFSETTO:-0500
TZNAME:CDT
DTSTART:20240310T080000
END:DAYLIGHT
BEGIN:STANDARD
TZOFFSETFROM:-0500
TZOFFSETTO:-0600
TZNAME:CST
DTSTART:20241103T070000
END:STANDARD
BEGIN:DAYLIGHT
TZOFFSETFROM:-0600
TZOFFSETTO:-0500
TZNAME:CDT
DTSTART:20250309T080000
END:DAYLIGHT
BEGIN:STANDARD
TZOFFSETFROM:-0500
TZOFFSETTO:-0600
TZNAME:CST
DTSTART:20251102T070000
END:STANDARD
BEGIN:DAYLIGHT
TZOFFSETFROM:-0600
TZOFFSETTO:-0500
TZNAME:CDT
DTSTART:20260308T080000
END:DAYLIGHT
BEGIN:STANDARD
TZOFFSETFROM:-0500
TZOFFSETTO:-0600
TZNAME:CST
DTSTART:20261101T070000
END:STANDARD
END:VTIMEZONE
BEGIN:VEVENT
DTSTART;VALUE=DATE:20251001
DTEND;VALUE=DATE:20251016
DTSTAMP:20260425T212527
CREATED:20250929T211423Z
LAST-MODIFIED:20251016T140001Z
UID:10001392-1759276800-1760572799@www.hutchpl.org
SUMMARY:Spice of the Month: Crushed Red Pepper
DESCRIPTION:Pick up a Spice of the Month Kit this October in the 641 Section! Kits include recipes from library books and a sample of Crushed Red pepper to add to your dish.  \nCrushed Red Pepper has many uses from adding a warm heat to homemade sauce to spicing up your meal as a condiment (like those pepper packets from your favorite pizza place).  \nTry the recipes included in the spice kit or browse the 641 section and pick a few for yourself! Share a photo of your delicious dinners on the library Facebook page and tell us how you and your family liked (or disliked) the new dishes.  \nSpice kits will be available all month until we run out. 
URL:https://www.hutchpl.org/event/spice-of-the-month-crushed-red-pepper/
LOCATION:KS
CATEGORIES:Adults
ATTACH;FMTTYPE=image/png:https://www.hutchpl.org/wp-content/uploads/2025/09/Spice-of-the-Month-Red-Pepper-Square.png
END:VEVENT
BEGIN:VEVENT
DTSTART;TZID=America/Chicago:20251007T180000
DTEND;TZID=America/Chicago:20251007T193000
DTSTAMP:20260425T212527
CREATED:20251001T050036Z
LAST-MODIFIED:20250930T163429Z
UID:10001394-1759860000-1759865400@www.hutchpl.org
SUMMARY:3D Printing Certification
DESCRIPTION:We will soon require training to use our 3D printing services. This introductory workshop covers basic information to perform 3D printing projects. Completing it gives you access to use our 3D printing equipment\, and you will make a small 3D print at no cost. \n\nThere is no cost to attend.\nBasic computer and reading skills are required.\nNo previous experience is required.\nSeats are limited\, but this workshop will be offered regularly. If you can’t attend a scheduled workshop\, please contact us to discuss alternatives.\nThe Makerspace will be closed to other activities during this workshop.\nYou may need to return later to pick up your completed 3D print\n\n\n\n\n\n\nIMPORTANT – PLEASE READ:\n\nYoung children must be able to understand written and verbal instructions unaided\, as well as use a desktop computer.\nEach individual attending will need a current Hutchinson Public Library Card. Student library cards are not valid for Makerspace workshops.
URL:https://www.hutchpl.org/event/3d-printing-certification-53/
LOCATION:Hutchinson Public Library – Makerspace\, 901 N Main St\, Hutchinson\, KS\, 67501\, United States
CATEGORIES:Adults,For Everyone,Makerspace,Young Adult
ATTACH;FMTTYPE=image/jpeg:https://www.hutchpl.org/wp-content/uploads/2025/01/3D-Printing-workshop-3-un3z0D.tmp_.jpg
ORGANIZER;CN="Makerspace":MAILTO:makerspace@hutchpl.org
END:VEVENT
BEGIN:VEVENT
DTSTART;TZID=America/Chicago:20251010T103000
DTEND;TZID=America/Chicago:20251010T120000
DTSTAMP:20260425T212527
CREATED:20251001T050055Z
LAST-MODIFIED:20250930T164433Z
UID:10001397-1760092200-1760097600@www.hutchpl.org
SUMMARY:Machine Embroidery Workshop
DESCRIPTION:Visit the Makerspace for a demonstration of our machine-embroidery equipment! This is a two-part workshop where the scheduled event is a presentation-only walkthrough of an embroidery job\, then you can return at your convenience for hands-on experience.  \nWe will be showing an overview of how to digitize a design on the computer\, hoop your fabric and thread the embroidery machine\, customize the embroidery job on the machine\, and stitch-out your custom design. \n\nThere is no cost to attend. No previous experience is required.\nBasic computer and reading skills are required.\nSeats are limited\, but this workshop will be offered regularly. If you can’t attend a scheduled workshop\, please contact us to discuss alternatives.\nThe Makerspace will be closed to other activities during this workshop.\n\n\n\n\n\n\nIMPORTANT – PLEASE READ:\n\nYou will need to return later to complete the hands-on portion of the training.\nYoung children must be able to understand written and verbal instructions unaided\, as well as use a desktop computer.\nEach individual attending will need a current Hutchinson Public Library Card. Student library cards are not valid for Makerspace workshops.
URL:https://www.hutchpl.org/event/machine-embroidery-workshop-3/
LOCATION:Hutchinson Public Library – Makerspace\, 901 N Main St\, Hutchinson\, KS\, 67501\, United States
CATEGORIES:Adults,For Everyone,Makerspace,Young Adult
ATTACH;FMTTYPE=image/jpeg:https://www.hutchpl.org/wp-content/uploads/2025/09/Workshop-Thumbnails-April-2025.jpg
ORGANIZER;CN="Makerspace":MAILTO:makerspace@hutchpl.org
END:VEVENT
BEGIN:VEVENT
DTSTART;TZID=America/Chicago:20251010T150000
DTEND;TZID=America/Chicago:20251010T170000
DTSTAMP:20260425T212527
CREATED:20250930T164819Z
LAST-MODIFIED:20250930T164819Z
UID:10001399-1760108400-1760115600@www.hutchpl.org
SUMMARY:Creative Writing Corner
DESCRIPTION:The Creative Writing Corner is a space for anyone to sit down and work on their own stories. Whether you want to brainstorm ideas with other patrons\, need help editing your work\, or just want to sit in the corner and write away; this is the corner for you! Join us in the Sunroom on the 2nd floor.
URL:https://www.hutchpl.org/event/creative-writing-corner-16/
LOCATION:KS
CATEGORIES:Adults,Makerspace,Young Adult
ATTACH;FMTTYPE=image/png:https://www.hutchpl.org/wp-content/uploads/2025/01/CWC-Logo-1-VV5gNw.tmp_.png
END:VEVENT
END:VCALENDAR