BEGIN:VCALENDAR
VERSION:2.0
PRODID:-//Hutchinson Public Library - ECPv6.15.17.1//NONSGML v1.0//EN
CALSCALE:GREGORIAN
METHOD:PUBLISH
X-WR-CALNAME:Hutchinson Public Library
X-ORIGINAL-URL:https://www.hutchpl.org
X-WR-CALDESC:Events for Hutchinson Public Library
REFRESH-INTERVAL;VALUE=DURATION:PT1H
X-Robots-Tag:noindex
X-PUBLISHED-TTL:PT1H
BEGIN:VTIMEZONE
TZID:America/Chicago
BEGIN:DAYLIGHT
TZOFFSETFROM:-0600
TZOFFSETTO:-0500
TZNAME:CDT
DTSTART:20250309T080000
END:DAYLIGHT
BEGIN:STANDARD
TZOFFSETFROM:-0500
TZOFFSETTO:-0600
TZNAME:CST
DTSTART:20251102T070000
END:STANDARD
BEGIN:DAYLIGHT
TZOFFSETFROM:-0600
TZOFFSETTO:-0500
TZNAME:CDT
DTSTART:20260308T080000
END:DAYLIGHT
BEGIN:STANDARD
TZOFFSETFROM:-0500
TZOFFSETTO:-0600
TZNAME:CST
DTSTART:20261101T070000
END:STANDARD
BEGIN:DAYLIGHT
TZOFFSETFROM:-0600
TZOFFSETTO:-0500
TZNAME:CDT
DTSTART:20270314T080000
END:DAYLIGHT
BEGIN:STANDARD
TZOFFSETFROM:-0500
TZOFFSETTO:-0600
TZNAME:CST
DTSTART:20271107T070000
END:STANDARD
END:VTIMEZONE
BEGIN:VEVENT
DTSTART;TZID=America/Chicago:20260511T180000
DTEND;TZID=America/Chicago:20260511T190000
DTSTAMP:20260423T111403
CREATED:20251124T203104Z
LAST-MODIFIED:20260209T165300Z
UID:10001485-1778522400-1778526000@www.hutchpl.org
SUMMARY:Is the Book Always Better? Book + Movie Discussion
DESCRIPTION:Whether you love or hate film adaptations of your favorite stories\, this book club is the place to have an exciting conversation about books\, casting choices\, plot changes\, cinematography\, and more! We meet every other month with a new title each time. Joining is easy! Check out the book for the “Is the Book Always Better?” book club at the public service desk. 
URL:https://www.hutchpl.org/event/is-the-book-always-better-book-movie-discussion-2-2/2026-05-11/
LOCATION:KS
CATEGORIES:Adults,Book Discussion
ATTACH;FMTTYPE=image/png:https://www.hutchpl.org/wp-content/uploads/2025/03/Is-the-Book-Always-Better-3.png
END:VEVENT
END:VCALENDAR