BEGIN:VCALENDAR
VERSION:2.0
PRODID:-//Hutchinson Public Library - ECPv6.15.17.1//NONSGML v1.0//EN
CALSCALE:GREGORIAN
METHOD:PUBLISH
X-ORIGINAL-URL:https://www.hutchpl.org
X-WR-CALDESC:Events for Hutchinson Public Library
REFRESH-INTERVAL;VALUE=DURATION:PT1H
X-Robots-Tag:noindex
X-PUBLISHED-TTL:PT1H
BEGIN:VTIMEZONE
TZID:America/Chicago
BEGIN:DAYLIGHT
TZOFFSETFROM:-0600
TZOFFSETTO:-0500
TZNAME:CDT
DTSTART:20250309T080000
END:DAYLIGHT
BEGIN:STANDARD
TZOFFSETFROM:-0500
TZOFFSETTO:-0600
TZNAME:CST
DTSTART:20251102T070000
END:STANDARD
BEGIN:DAYLIGHT
TZOFFSETFROM:-0600
TZOFFSETTO:-0500
TZNAME:CDT
DTSTART:20260308T080000
END:DAYLIGHT
BEGIN:STANDARD
TZOFFSETFROM:-0500
TZOFFSETTO:-0600
TZNAME:CST
DTSTART:20261101T070000
END:STANDARD
BEGIN:DAYLIGHT
TZOFFSETFROM:-0600
TZOFFSETTO:-0500
TZNAME:CDT
DTSTART:20270314T080000
END:DAYLIGHT
BEGIN:STANDARD
TZOFFSETFROM:-0500
TZOFFSETTO:-0600
TZNAME:CST
DTSTART:20271107T070000
END:STANDARD
END:VTIMEZONE
BEGIN:VEVENT
DTSTART;TZID=America/Chicago:20260217T180000
DTEND;TZID=America/Chicago:20260217T190000
DTSTAMP:20260421T141245
CREATED:20251027T132425Z
LAST-MODIFIED:20260306T191159Z
UID:10001572-1771351200-1771354800@www.hutchpl.org
SUMMARY:Talk Together Tuesday
DESCRIPTION:A multi-lingual social event where you can practice any language you are learning in a real-world conversational environment.  \nThis is a friendly place to meet neighbors\, share stories\, and celebrate languages from around the world.  Enjoy light refreshments and group activities. it’s a lively mix if language\, laughter\, and learning!  \nHave questions? Reach out to Adult Education and Literacy Services by calling us at 620-663-5441 or emailing adulteducation@hutchpl.org
URL:https://www.hutchpl.org/event/talk-together-tuesday/2026-02-17/
LOCATION:KS
CATEGORIES:Adults
ATTACH;FMTTYPE=image/png:https://www.hutchpl.org/wp-content/uploads/2025/10/TTT-New-Design-Ideas-Instagram-Post-1.png
END:VEVENT
END:VCALENDAR