BEGIN:VCALENDAR
VERSION:2.0
PRODID:-//Hutchinson Public Library - ECPv6.15.17.1//NONSGML v1.0//EN
CALSCALE:GREGORIAN
METHOD:PUBLISH
X-ORIGINAL-URL:https://www.hutchpl.org
X-WR-CALDESC:Events for Hutchinson Public Library
REFRESH-INTERVAL;VALUE=DURATION:PT1H
X-Robots-Tag:noindex
X-PUBLISHED-TTL:PT1H
BEGIN:VTIMEZONE
TZID:America/Chicago
BEGIN:DAYLIGHT
TZOFFSETFROM:-0600
TZOFFSETTO:-0500
TZNAME:CDT
DTSTART:20240310T080000
END:DAYLIGHT
BEGIN:STANDARD
TZOFFSETFROM:-0500
TZOFFSETTO:-0600
TZNAME:CST
DTSTART:20241103T070000
END:STANDARD
BEGIN:DAYLIGHT
TZOFFSETFROM:-0600
TZOFFSETTO:-0500
TZNAME:CDT
DTSTART:20250309T080000
END:DAYLIGHT
BEGIN:STANDARD
TZOFFSETFROM:-0500
TZOFFSETTO:-0600
TZNAME:CST
DTSTART:20251102T070000
END:STANDARD
BEGIN:DAYLIGHT
TZOFFSETFROM:-0600
TZOFFSETTO:-0500
TZNAME:CDT
DTSTART:20260308T080000
END:DAYLIGHT
BEGIN:STANDARD
TZOFFSETFROM:-0500
TZOFFSETTO:-0600
TZNAME:CST
DTSTART:20261101T070000
END:STANDARD
END:VTIMEZONE
BEGIN:VEVENT
DTSTART;TZID=America/Chicago:20251201T080000
DTEND;TZID=America/Chicago:20251231T170000
DTSTAMP:20260423T114034
CREATED:20251125T200612Z
LAST-MODIFIED:20251203T203453Z
UID:10001630-1764576000-1767200400@www.hutchpl.org
SUMMARY:Spice of the Month - Thyme
DESCRIPTION:Spice of the Month returns in December with a special twist. \nThere is a bonus spice and extra recipes! \nOur spice of the month is Thyme. The perfect herb for hearty and wholesome soups\, roasts\, and other cozy winter treats. \nExplore new recipes to keep you warm\, happy\, and healthy through the winter season. \nPick up a spice kit at the library through the month of December or until we run out. \n  \nEach Spice kit includes a sample of spices or herbs and recipes selected by staff from library books. Each recipe sheet includes a full recipe\, plus the book title and call number in case you want to check it out for yourself.  \n  \nOur next Spice of the Month will be in February 2026!
URL:https://www.hutchpl.org/event/7915/
LOCATION:KS
CATEGORIES:Adults
ATTACH;FMTTYPE=image/png:https://www.hutchpl.org/wp-content/uploads/2025/11/Spice-of-the-Month-Red-Pepper-Square.png
END:VEVENT
BEGIN:VEVENT
DTSTART;TZID=America/Chicago:20251209T180000
DTEND;TZID=America/Chicago:20251209T190000
DTSTAMP:20260423T114034
CREATED:20251028T150549Z
LAST-MODIFIED:20251028T150552Z
UID:10000819-1765303200-1765306800@www.hutchpl.org
SUMMARY:For the Record - Books + Music Club
DESCRIPTION:For the Record is a place for music lovers to gather and share their love of both reading about and listening to music. Join us for a monthly meetup on the second Tuesday of the month at 6:00PM. We dive into the stories behind iconic musicians and albums\, while sharing our favorite tracks and newest record finds. We read the 33 1/3 series. These are short books\, each about a different musician and album. We explore a new one each month with a discussion about the book\, album and the music that moves us. Whether you are a vinyl enthusiast or just passionate about discovering new sounds\, For the Record offers a fun and welcoming space to connect. \n  \nWe meet every month except for September. \nVisit our Adults page to see what we are reading this month.  Books are available for check out at the Public Service desk.
URL:https://www.hutchpl.org/event/for-the-record-books-music-club-24-2/2025-12-09/
LOCATION:KS
CATEGORIES:Adults,Book Discussion
ATTACH;FMTTYPE=image/png:https://www.hutchpl.org/wp-content/uploads/2025/01/For-the-Record-Event-Cover-Instagram-Post-xvgJYu.tmp_.png
END:VEVENT
END:VCALENDAR