BEGIN:VCALENDAR
VERSION:2.0
PRODID:-//Hutchinson Public Library - ECPv6.15.17.1//NONSGML v1.0//EN
CALSCALE:GREGORIAN
METHOD:PUBLISH
X-WR-CALNAME:Hutchinson Public Library
X-ORIGINAL-URL:https://www.hutchpl.org
X-WR-CALDESC:Events for Hutchinson Public Library
REFRESH-INTERVAL;VALUE=DURATION:PT1H
X-Robots-Tag:noindex
X-PUBLISHED-TTL:PT1H
BEGIN:VTIMEZONE
TZID:America/Chicago
BEGIN:DAYLIGHT
TZOFFSETFROM:-0600
TZOFFSETTO:-0500
TZNAME:CDT
DTSTART:20240310T080000
END:DAYLIGHT
BEGIN:STANDARD
TZOFFSETFROM:-0500
TZOFFSETTO:-0600
TZNAME:CST
DTSTART:20241103T070000
END:STANDARD
BEGIN:DAYLIGHT
TZOFFSETFROM:-0600
TZOFFSETTO:-0500
TZNAME:CDT
DTSTART:20250309T080000
END:DAYLIGHT
BEGIN:STANDARD
TZOFFSETFROM:-0500
TZOFFSETTO:-0600
TZNAME:CST
DTSTART:20251102T070000
END:STANDARD
BEGIN:DAYLIGHT
TZOFFSETFROM:-0600
TZOFFSETTO:-0500
TZNAME:CDT
DTSTART:20260308T080000
END:DAYLIGHT
BEGIN:STANDARD
TZOFFSETFROM:-0500
TZOFFSETTO:-0600
TZNAME:CST
DTSTART:20261101T070000
END:STANDARD
END:VTIMEZONE
BEGIN:VEVENT
DTSTART;TZID=America/Chicago:20251120T160000
DTEND;TZID=America/Chicago:20251120T173000
DTSTAMP:20260424T102414
CREATED:20251115T224838Z
LAST-MODIFIED:20251115T225212Z
UID:10001564-1763654400-1763659800@www.hutchpl.org
SUMMARY:Craft-Cutter Workshop
DESCRIPTION:This workshop covers basic instruction for our craft-cutter\, the Cricut Maker 3. You will design and create a vinyl decal\, and learn how to make stickers\, fabric-transfers\, and more.\n\n\n\n\n\n\n\nYou will need an email address to register for your Cricut ID.\nThere is no cost to attend.\nBasic computer and reading skills are required.\nNo previous experience is required.\nSeats are limited\, but this workshop will be offered regularly. If you can’t attend a scheduled workshop\, please contact us to discuss alternatives.\nThe Makerspace will be closed to other activities during this workshop.\n\n\n\n\n\n\nIMPORTANT – PLEASE READ:\n\nYoung children must be able to understand written and verbal instructions unaided\, as well as use a desktop computer.\nEach individual attending will need a current Hutchinson Public Library Card. Student library cards are not valid for Makerspace workshops.
URL:https://www.hutchpl.org/event/craft-cutter-workshop/
LOCATION:Hutchinson Public Library – Makerspace\, 901 N Main St\, Hutchinson\, KS\, 67501\, United States
CATEGORIES:Adults,For Everyone,Makerspace,Young Adult
ATTACH;FMTTYPE=image/jpeg:https://www.hutchpl.org/wp-content/uploads/2025/11/Craft-Cutter-Workshop-11-10-25a-1.jpg
ORGANIZER;CN="Makerspace":MAILTO:makerspace@hutchpl.org
END:VEVENT
BEGIN:VEVENT
DTSTART;TZID=America/Chicago:20251120T180000
DTEND;TZID=America/Chicago:20251120T190000
DTSTAMP:20260424T102414
CREATED:20250312T160743Z
LAST-MODIFIED:20250312T160743Z
UID:10000812-1763661600-1763665200@www.hutchpl.org
SUMMARY:Strange New Words - Sci-fi/Fantasy Book Club
DESCRIPTION:Strange New Words will take you on a literary journey through time and space with friends! This book club meets at the library every other month on the fourth Thursday at 6:00PM. Together\, we’ll explore new and thought-provoking realms that shed light on the complexities of the human experience—often through unexpected perspectives. Whether you’re a seasoned sci-fi enthusiast or just beginning to explore the genre\, Strange New Words offers a welcoming space for rich discussion\, discovery\, and connection. Join us as we navigate the unknown and unravel stories that challenge\, entertain\, and inspire.
URL:https://www.hutchpl.org/event/strange-new-words-sci-fi-fantasy-book-club/2025-11-20/
LOCATION:KS
CATEGORIES:Adults,Book Discussion
ATTACH;FMTTYPE=image/png:https://www.hutchpl.org/wp-content/uploads/2025/01/Strange-New-Words-20251-W7fngX.tmp_.png
END:VEVENT
END:VCALENDAR