BEGIN:VCALENDAR
VERSION:2.0
PRODID:-//Hutchinson Public Library - ECPv6.15.17.1//NONSGML v1.0//EN
CALSCALE:GREGORIAN
METHOD:PUBLISH
X-WR-CALNAME:Hutchinson Public Library
X-ORIGINAL-URL:https://www.hutchpl.org
X-WR-CALDESC:Events for Hutchinson Public Library
REFRESH-INTERVAL;VALUE=DURATION:PT1H
X-Robots-Tag:noindex
X-PUBLISHED-TTL:PT1H
BEGIN:VTIMEZONE
TZID:UTC
BEGIN:STANDARD
TZOFFSETFROM:+0000
TZOFFSETTO:+0000
TZNAME:UTC
DTSTART:20240101T000000
END:STANDARD
END:VTIMEZONE
BEGIN:VTIMEZONE
TZID:America/Chicago
BEGIN:DAYLIGHT
TZOFFSETFROM:-0600
TZOFFSETTO:-0500
TZNAME:CDT
DTSTART:20240310T080000
END:DAYLIGHT
BEGIN:STANDARD
TZOFFSETFROM:-0500
TZOFFSETTO:-0600
TZNAME:CST
DTSTART:20241103T070000
END:STANDARD
BEGIN:DAYLIGHT
TZOFFSETFROM:-0600
TZOFFSETTO:-0500
TZNAME:CDT
DTSTART:20250309T080000
END:DAYLIGHT
BEGIN:STANDARD
TZOFFSETFROM:-0500
TZOFFSETTO:-0600
TZNAME:CST
DTSTART:20251102T070000
END:STANDARD
BEGIN:DAYLIGHT
TZOFFSETFROM:-0600
TZOFFSETTO:-0500
TZNAME:CDT
DTSTART:20260308T080000
END:DAYLIGHT
BEGIN:STANDARD
TZOFFSETFROM:-0500
TZOFFSETTO:-0600
TZNAME:CST
DTSTART:20261101T070000
END:STANDARD
END:VTIMEZONE
BEGIN:VEVENT
DTSTART;TZID=UTC:20250826T180000
DTEND;TZID=UTC:20250826T190000
DTSTAMP:20260423T014856
CREATED:20250108T225039Z
LAST-MODIFIED:20250108T225039Z
UID:10000078-1756231200-1756234800@www.hutchpl.org
SUMMARY:Mystery Mavens
DESCRIPTION:6:00 pm\nConference Room #2\nMystery Mavens meet on the fourth Tuesday of every month. If you are interested in obtaining a copy of this month’s book and participating in a discussion\, please contact Steve Westfahl (steve.w@hutchpl.org) or call 620-663-5441.
URL:https://www.hutchpl.org/event/mystery-mavens-8/
LOCATION:Hutchinson Public Library\, 901 N Main St\, Hutchinson\, KS\, 67501\, United States
CATEGORIES:Adults,Book Discussion
ATTACH;FMTTYPE=image/png:https://www.hutchpl.org/wp-content/uploads/2025/01/Mystery1-7-WI4kXW.tmp_.png
GEO:38.062854;-97.931871
X-APPLE-STRUCTURED-LOCATION;VALUE=URI;X-ADDRESS=Hutchinson Public Library 901 N Main St Hutchinson KS 67501 United States;X-APPLE-RADIUS=500;X-TITLE=901 N Main St:geo:-97.931871,38.062854
END:VEVENT
BEGIN:VEVENT
DTSTART;TZID=America/Chicago:20250826T180000
DTEND;TZID=America/Chicago:20250826T193000
DTSTAMP:20260423T014856
CREATED:20250728T175954Z
LAST-MODIFIED:20250728T175954Z
UID:10001022-1756231200-1756236600@www.hutchpl.org
SUMMARY:3D Printing Certification
DESCRIPTION:We will soon require training to use our 3D printing services. This introductory workshop covers basic information to perform 3D printing projects. Completing it gives you access to use our 3D printing equipment\, and you will make a small 3D print at no cost. \n\n\n\n\n\n\n\n\nYou will need\n\n\n\n\n\n\nA current Hutchinson Public Library Card that belongs to you. Please note: Student library cards are not valid for Makerspace workshops.\nBasic computer and reading skills.\nA second visit to pick up your completed 3D print\n\n\nPlease remember:\n\nThere is no cost to attend.\nYoung children must be able to understand written and verbal instructions unaided\, as well as use a desktop computer.\nNo previous experience is required.\nSeats are limited\, but this workshop will be offered regularly. If you can’t attend a scheduled workshop\, please contact us to discuss alternatives.\nThe Makerspace will be closed to other activities during this workshop.
URL:https://www.hutchpl.org/event/3d-printing-certification-46/
LOCATION:Hutchinson Public Library – Makerspace\, 901 N Main St\, Hutchinson\, KS\, 67501\, United States
CATEGORIES:Adults,For Everyone,Makerspace,Young Adult
ATTACH;FMTTYPE=image/jpeg:https://www.hutchpl.org/wp-content/uploads/2025/01/3D-Printing-workshop-3-un3z0D.tmp_.jpg
ORGANIZER;CN="Makerspace":MAILTO:makerspace@hutchpl.org
END:VEVENT
END:VCALENDAR