BEGIN:VCALENDAR
VERSION:2.0
PRODID:-//Hutchinson Public Library - ECPv6.15.17.1//NONSGML v1.0//EN
CALSCALE:GREGORIAN
METHOD:PUBLISH
X-WR-CALNAME:Hutchinson Public Library
X-ORIGINAL-URL:https://www.hutchpl.org
X-WR-CALDESC:Events for Hutchinson Public Library
REFRESH-INTERVAL;VALUE=DURATION:PT1H
X-Robots-Tag:noindex
X-PUBLISHED-TTL:PT1H
BEGIN:VTIMEZONE
TZID:America/Chicago
BEGIN:DAYLIGHT
TZOFFSETFROM:-0600
TZOFFSETTO:-0500
TZNAME:CDT
DTSTART:20240310T080000
END:DAYLIGHT
BEGIN:STANDARD
TZOFFSETFROM:-0500
TZOFFSETTO:-0600
TZNAME:CST
DTSTART:20241103T070000
END:STANDARD
BEGIN:DAYLIGHT
TZOFFSETFROM:-0600
TZOFFSETTO:-0500
TZNAME:CDT
DTSTART:20250309T080000
END:DAYLIGHT
BEGIN:STANDARD
TZOFFSETFROM:-0500
TZOFFSETTO:-0600
TZNAME:CST
DTSTART:20251102T070000
END:STANDARD
BEGIN:DAYLIGHT
TZOFFSETFROM:-0600
TZOFFSETTO:-0500
TZNAME:CDT
DTSTART:20260308T080000
END:DAYLIGHT
BEGIN:STANDARD
TZOFFSETFROM:-0500
TZOFFSETTO:-0600
TZNAME:CST
DTSTART:20261101T070000
END:STANDARD
END:VTIMEZONE
BEGIN:VEVENT
DTSTART;TZID=America/Chicago:20250522T180000
DTEND;TZID=America/Chicago:20250522T190000
DTSTAMP:20260421T055335
CREATED:20250312T160743Z
LAST-MODIFIED:20250312T160743Z
UID:10000809-1747936800-1747940400@www.hutchpl.org
SUMMARY:Strange New Words - Sci-fi/Fantasy Book Club
DESCRIPTION:Strange New Words will take you on a literary journey through time and space with friends! This book club meets at the library every other month on the fourth Thursday at 6:00PM. Together\, we’ll explore new and thought-provoking realms that shed light on the complexities of the human experience—often through unexpected perspectives. Whether you’re a seasoned sci-fi enthusiast or just beginning to explore the genre\, Strange New Words offers a welcoming space for rich discussion\, discovery\, and connection. Join us as we navigate the unknown and unravel stories that challenge\, entertain\, and inspire.
URL:https://www.hutchpl.org/event/strange-new-words-sci-fi-fantasy-book-club/2025-05-22/
LOCATION:KS
CATEGORIES:Adults,Book Discussion
ATTACH;FMTTYPE=image/png:https://www.hutchpl.org/wp-content/uploads/2025/01/Strange-New-Words-20251-W7fngX.tmp_.png
END:VEVENT
END:VCALENDAR