BEGIN:VCALENDAR
VERSION:2.0
PRODID:-//Hutchinson Public Library - ECPv6.15.17.1//NONSGML v1.0//EN
CALSCALE:GREGORIAN
METHOD:PUBLISH
X-WR-CALNAME:Hutchinson Public Library
X-ORIGINAL-URL:https://www.hutchpl.org
X-WR-CALDESC:Events for Hutchinson Public Library
REFRESH-INTERVAL;VALUE=DURATION:PT1H
X-Robots-Tag:noindex
X-PUBLISHED-TTL:PT1H
BEGIN:VTIMEZONE
TZID:UTC
BEGIN:STANDARD
TZOFFSETFROM:+0000
TZOFFSETTO:+0000
TZNAME:UTC
DTSTART:20240101T000000
END:STANDARD
END:VTIMEZONE
BEGIN:VEVENT
DTSTART;TZID=UTC:20250308T100000
DTEND;TZID=UTC:20250308T120000
DTSTAMP:20260423T135545
CREATED:20250108T224615Z
LAST-MODIFIED:20250108T224615Z
UID:10000033-1741428000-1741435200@www.hutchpl.org
SUMMARY:Children’s Chess Club
DESCRIPTION:Come to the Youth Services area and play and learn strategy from a chess instructor.
URL:https://www.hutchpl.org/event/childrens-chess-club-3/
LOCATION:Hutchinson Public Library\, 901 N Main St\, Hutchinson\, KS\, 67501\, United States
CATEGORIES:Children's Activities
ATTACH;FMTTYPE=image/png:https://www.hutchpl.org/wp-content/uploads/2025/01/508-5084481_previous-chess-1-BYGaS4.tmp_.png
GEO:38.062854;-97.931871
X-APPLE-STRUCTURED-LOCATION;VALUE=URI;X-ADDRESS=Hutchinson Public Library 901 N Main St Hutchinson KS 67501 United States;X-APPLE-RADIUS=500;X-TITLE=901 N Main St:geo:-97.931871,38.062854
END:VEVENT
BEGIN:VEVENT
DTSTART;TZID=UTC:20250308T140000
DTEND;TZID=UTC:20250308T160000
DTSTAMP:20260423T135545
CREATED:20250108T224620Z
LAST-MODIFIED:20250108T224620Z
UID:10000034-1741442400-1741449600@www.hutchpl.org
SUMMARY:Adventurer’s Guild
DESCRIPTION:Registration is required for this program.   \nPlease follow this link to sign up! 
URL:https://www.hutchpl.org/event/adventurers-guild-3/
LOCATION:Hutchinson Public Library\, 901 N Main St\, Hutchinson\, KS\, 67501\, United States
CATEGORIES:Children's Activities
ATTACH;FMTTYPE=image/png:https://www.hutchpl.org/wp-content/uploads/2025/01/Adventurers-Guild-Calendar-Image-C81Vv1.tmp_.png
GEO:38.062854;-97.931871
X-APPLE-STRUCTURED-LOCATION;VALUE=URI;X-ADDRESS=Hutchinson Public Library 901 N Main St Hutchinson KS 67501 United States;X-APPLE-RADIUS=500;X-TITLE=901 N Main St:geo:-97.931871,38.062854
END:VEVENT
END:VCALENDAR