BEGIN:VCALENDAR
VERSION:2.0
PRODID:-//Hutchinson Public Library - ECPv6.15.17.1//NONSGML v1.0//EN
CALSCALE:GREGORIAN
METHOD:PUBLISH
X-WR-CALNAME:Hutchinson Public Library
X-ORIGINAL-URL:https://www.hutchpl.org
X-WR-CALDESC:Events for Hutchinson Public Library
REFRESH-INTERVAL;VALUE=DURATION:PT1H
X-Robots-Tag:noindex
X-PUBLISHED-TTL:PT1H
BEGIN:VTIMEZONE
TZID:America/Chicago
BEGIN:DAYLIGHT
TZOFFSETFROM:-0600
TZOFFSETTO:-0500
TZNAME:CDT
DTSTART:20240310T080000
END:DAYLIGHT
BEGIN:STANDARD
TZOFFSETFROM:-0500
TZOFFSETTO:-0600
TZNAME:CST
DTSTART:20241103T070000
END:STANDARD
BEGIN:DAYLIGHT
TZOFFSETFROM:-0600
TZOFFSETTO:-0500
TZNAME:CDT
DTSTART:20250309T080000
END:DAYLIGHT
BEGIN:STANDARD
TZOFFSETFROM:-0500
TZOFFSETTO:-0600
TZNAME:CST
DTSTART:20251102T070000
END:STANDARD
BEGIN:DAYLIGHT
TZOFFSETFROM:-0600
TZOFFSETTO:-0500
TZNAME:CDT
DTSTART:20260308T080000
END:DAYLIGHT
BEGIN:STANDARD
TZOFFSETFROM:-0500
TZOFFSETTO:-0600
TZNAME:CST
DTSTART:20261101T070000
END:STANDARD
END:VTIMEZONE
BEGIN:VTIMEZONE
TZID:UTC
BEGIN:STANDARD
TZOFFSETFROM:+0000
TZOFFSETTO:+0000
TZNAME:UTC
DTSTART:20240101T000000
END:STANDARD
END:VTIMEZONE
BEGIN:VEVENT
DTSTART;TZID=America/Chicago:20250208T100000
DTEND;TZID=America/Chicago:20250208T113000
DTSTAMP:20260423T014845
CREATED:20250131T220754Z
LAST-MODIFIED:20250131T225542Z
UID:10000211-1739008800-1739014200@www.hutchpl.org
SUMMARY:3D Printing Certification
DESCRIPTION:This workshop will cover the necessary information to perform basic 3D printing jobs. Successfully completing it makes allows you to use our 3D printing equipment\, and you will make a small 3D print at no cost.\n\n  \n\n\n\n\n\n\nYou will need\n\n\n\n\n\n\nA current Hutchinson Public Library Card that belongs to you. You must bring this to the workshop.\nBasic computer and reading skills.\nA second visit to pick up your completed 3D print\n\n\nPlease remember:\n\nThere is no cost to attend.\nThere is not an age limit\, but you should be able to understand and follow written and verbal instructions\, as well as use a desktop computer.\nNo previous experience is required.\nSeats are limited\, but this workshop will be offered regularly. If you can’t attend a scheduled workshop\, please contact us to discuss alternatives.\nThe Makerspace will be closed to other activities during this workshop.
URL:https://www.hutchpl.org/event/3d-printing-certification-5/
LOCATION:Hutchinson Public Library – Makerspace\, 901 N Main St\, Hutchinson\, KS\, 67501\, United States
CATEGORIES:Adults,Children's Activities,Young Adult
ATTACH;FMTTYPE=image/jpeg:https://www.hutchpl.org/wp-content/uploads/2025/01/3D-Printing-workshop-3-un3z0D.tmp_.jpg
END:VEVENT
BEGIN:VEVENT
DTSTART;TZID=UTC:20250208T100000
DTEND;TZID=UTC:20250208T120000
DTSTAMP:20260423T014845
CREATED:20250108T224507Z
LAST-MODIFIED:20250108T224507Z
UID:10000022-1739008800-1739016000@www.hutchpl.org
SUMMARY:Children’s Chess Club
DESCRIPTION:Come to the Youth Services area and play and learn strategy from a chess instructor.
URL:https://www.hutchpl.org/event/childrens-chess-club-2/
LOCATION:Hutchinson Public Library\, 901 N Main St\, Hutchinson\, KS\, 67501\, United States
CATEGORIES:Children's Activities
ATTACH;FMTTYPE=image/png:https://www.hutchpl.org/wp-content/uploads/2025/01/508-5084481_previous-chess-1-BYGaS4.tmp_.png
GEO:38.062854;-97.931871
X-APPLE-STRUCTURED-LOCATION;VALUE=URI;X-ADDRESS=Hutchinson Public Library 901 N Main St Hutchinson KS 67501 United States;X-APPLE-RADIUS=500;X-TITLE=901 N Main St:geo:-97.931871,38.062854
END:VEVENT
BEGIN:VEVENT
DTSTART;TZID=UTC:20250208T140000
DTEND;TZID=UTC:20250208T160000
DTSTAMP:20260423T014845
CREATED:20250108T224512Z
LAST-MODIFIED:20250108T224512Z
UID:10000023-1739023200-1739030400@www.hutchpl.org
SUMMARY:Adventurer’s Guild
DESCRIPTION:Registration is required for this program.   \nPlease follow this link to sign up! 
URL:https://www.hutchpl.org/event/adventurers-guild-2/
LOCATION:Hutchinson Public Library\, 901 N Main St\, Hutchinson\, KS\, 67501\, United States
CATEGORIES:Children's Activities
ATTACH;FMTTYPE=image/png:https://www.hutchpl.org/wp-content/uploads/2025/01/Adventurers-Guild-Calendar-Image-C81Vv1.tmp_.png
GEO:38.062854;-97.931871
X-APPLE-STRUCTURED-LOCATION;VALUE=URI;X-ADDRESS=Hutchinson Public Library 901 N Main St Hutchinson KS 67501 United States;X-APPLE-RADIUS=500;X-TITLE=901 N Main St:geo:-97.931871,38.062854
END:VEVENT
END:VCALENDAR